BEGIN:VCALENDAR
VERSION:2.0
PRODID:http://www.infomax-online.de/imxeventmanager/
METHOD:PUBLISH
BEGIN:VTIMEZONE
TZID:Europe/Berlin
TZURL:http://tzurl.org/zoneinfo-outlook/Europe/Berlin
X-LIC-LOCATION:Europe/Berlin
END:VTIMEZONE
BEGIN:VEVENT
UID:69e7ce03cbe44
LOCATION:Halstenbeker Weg 22, 22523 Hamburg
SUMMARY;ENCODING=QUOTED-PRINTABLE:Spieleabend
DESCRIPTION;ENCODING=QUOTED-PRINTABLE:Jeder Erwachsene kann mitspielen und auch gerne eigene Spiele=0D=0Amitbringen.=0D=0A=0D=0ASnacks, Knabbereien und Getränke stehen gegen eine freiwillige Spende=0D=0Abereit. Du kannst natürlich auch gerne etwas für ein Buffet=0D=0Amitbringen.=0D=0A=0D=0AVERANSTALTER=0D=0A=0D=0A	* Ev.-Luth. Kirchengemeinde Eidelstedt=0D=0A[https://www.nordkirche.de/institution/?nkci=481]=0D=0A=0D=0A
URL;VALUE=URI:https://hamburgwhl.infomaxnet.de/standard_widget_de/e-spieleabend-59-1?eventDateId=29927753&widgetToken=22vcqFKw4GE.&
CLASS:PUBLIC
DTSTART:20260425T170000
DTSTAMP:20260421T212035
END:VEVENT
END:VCALENDAR