BEGIN:VCALENDAR
VERSION:2.0
PRODID:http://www.infomax-online.de/imxeventmanager/
METHOD:PUBLISH
BEGIN:VTIMEZONE
TZID:Europe/Berlin
TZURL:http://tzurl.org/zoneinfo-outlook/Europe/Berlin
X-LIC-LOCATION:Europe/Berlin
END:VTIMEZONE
BEGIN:VEVENT
UID:69ecaa96c2cf2
LOCATION:Rennbahnstraße 96, 22111 Hamburg
SUMMARY;ENCODING=QUOTED-PRINTABLE:WonderDome Experience Family & Kids HH
DESCRIPTION;ENCODING=QUOTED-PRINTABLE:Das FamilienAbenteuer "WONDERDOME Experience" Erlebnisausstellung=0D=0ASuperhelden & Roboter-Giganten sowie Hightech-Dinosaurier“ –dem=0D=0Aneuen Familien-Highlight in Hamburg. =0D=0A=0D=0AAuf über 5.000 m² Indoor-Fläche erwartet dich eine Welt voller=0D=0ATechnik, Kunst , Abenteuer und Shows!=0D=0A=0D=0AErlebe riesige Roboter aus Stahl – bis zu zehn Meter hoch – die in=0D=0Aeiner spektakulären Live-Show zum Leben erwachen. Lichter, Sounds und=0D=0Abeeindruckende Bewegungen machen jeden Moment zu einem echten=0D=0ALive-Erlebnis: hautnah, mitreißend und emotional.=0D=0A=0D=0ATriff deine Superhelden, genieße fesselnde Dinosaurier-Shows –=0D=0Abegleitet von modernsten, immersiven 3D Projektionen – und freue=0D=0Adich auf Selfie-Momente sowie interaktive Abenteuer für kleine und=0D=0Agroße Fans.Für die jüngsten Entdecker wartet zusätzlich ein 1.500=0D=0Am² großer Kinder-Funpark: klettern, toben, basteln – hier wird=0D=0AFantasie grenzenlos und jeder Tag zum Erlebnis.Das alles findest du in=0D=0Aden Wonderdome Domezelten an der Horner Rennbahn – dort, wo Träume=0D=0Alebendig werden.=0D=0A
URL;VALUE=URI:https://hamburgwhl.infomaxnet.de/standard_widget_de/e-wonderdome-experience-family-kids-hh?eventDateId=29921927&widgetToken=22vcqFKw4GE.&
CLASS:PUBLIC
DTSTART:20260430T110000
DTSTAMP:20260425T135046
END:VEVENT
END:VCALENDAR