BEGIN:VCALENDAR
VERSION:2.0
PRODID:http://www.infomax-online.de/imxeventmanager/
METHOD:PUBLISH
BEGIN:VTIMEZONE
TZID:Europe/Berlin
TZURL:http://tzurl.org/zoneinfo-outlook/Europe/Berlin
X-LIC-LOCATION:Europe/Berlin
END:VTIMEZONE
BEGIN:VEVENT
UID:69eb71bcee9e3
LOCATION:Schloßstraße 5, 21465 Reinbek
SUMMARY;ENCODING=QUOTED-PRINTABLE:Die alten Bäume des Sachsenwaldes - Fotoausstellung Harald Lemke
DESCRIPTION;ENCODING=QUOTED-PRINTABLE:Die Ausstellung des Naturfotografen Harald Lemke präsentiert die=0D=0Aeindrucksvollsten Bäume des Sachsenwaldes in großformatigen=0D=0AFotografien.=0D=0A=0D=0AAusstellungszeitraum: 20. März 2026 bis 03. Mai 2026=0D=0A=0D=0ADie Ausstellung des Naturfotografen Harald Lemke präsentiert die=0D=0Aeindrucksvollsten Bäume des Sachsenwaldes in großformatigen=0D=0AFotografien.=0D=0A=0D=0AUm die Natur geht es jedoch nur vordergründig. Die Bilder berühren=0D=0Auns ganz besonders, denn alte Bäume sind ein Sinnbild des Lebens. Sie=0D=0Aerzählen vom Werden und Vergehen, vom Kampf um das Licht und vom=0D=0Atrotzigen Widerstand gegen Sturm und Wetter. Und sie strahlen eine=0D=0Abesondere Würde aus, selbst im Sterben. Wer einen alten Baum in aller=0D=0ARuhe betrachtet und auf sich wirken lässt, wird Hermann Hesse=0D=0Averstehen, für den solche Bäume heilig waren.=0D=0A=0D=0ADie Baumporträts von Harald Lemke zeigen, dass unser Wald keine=0D=0Auniforme grüne Masse ist, sondern von individuellen Bäumen mit=0D=0Aureigenem Charakter geprägt wird. Wer die Ausstellung gesehen hat,=0D=0Awird beim nächsten Spaziergang mit anderen Augen durch den Wald=0D=0Agehen. Und vielleicht hören auch Sie dann, wie ein ein alter Baum uns=0D=0Astreng zurechtweist: „Sei still! Sieh mich an.“=0D=0A=0D=0AZur Vernissage am 20.03.26, 19:00 Uhr ist der Eintritt frei. =0D=0ABegrüßung: Bürgermeister Björn Warmer=0D=0AEinführungsgespräch: Elke Güldenstein=0D=0A=0D=0A_Alter Mann zeigt alte Bäume. So what?=0D=0AAuf diese lakonische Formel ließe sich meine Ausstellung „Die alten=0D=0ABäume des Sachsenwaldes“ verkürzen. Ich betrachte den Hinweis auf=0D=0Amein fortgeschrittenes Alter in diesem Zusammenhang als wesentlich,=0D=0Adenn: Es gibt Motive, die sich erst mit wachsender Lebenserfahrung=0D=0Aerschließen und die alten Bäume gehören wahrscheinlich dazu.=0D=0ANatürlich muss man nicht alt sein, um Gefallen an ihrer besonderen=0D=0AÄsthetik zu finden. Aber es fällt leichter, sich mit dem Wesen eines=0D=0Aalten Baumes auseinanderzusetzen, wenn man bereits durch existenzielle=0D=0AKrisen gegangen ist, die eigene Endlichkeit gespürt, den Willen und=0D=0Adie Kraft zum Leben erfahren hat. Wille und Kraft zur eigenen Existenz=0D=0A- das findet sich auch in den alten Bäumen des Sachsenwaldes. Das=0D=0Amacht sie nicht nur zu einer Projektionsfläche für unser eigenes=0D=0ADasein mit seinen Höhen und Tiefen, sondern auch zu besonderen=0D=0AFotomotiven._=0D=0A_Harald Lemke_=0D=0A
URL;VALUE=URI:https://hamburgwhl.infomaxnet.de/standard_widget_de/e-die-alten-baeume-des-sachsenwaldes-fotoausstellung-harald-lemke?eventDateId=29918483&widgetToken=22vcqFKw4GE.&
CLASS:PUBLIC
DTSTART:20260429T100000
DTSTAMP:20260424T153556
END:VEVENT
END:VCALENDAR