BEGIN:VCALENDAR
VERSION:2.0
PRODID:http://www.infomax-online.de/imxeventmanager/
METHOD:PUBLISH
BEGIN:VTIMEZONE
TZID:Europe/Berlin
TZURL:http://tzurl.org/zoneinfo-outlook/Europe/Berlin
X-LIC-LOCATION:Europe/Berlin
END:VTIMEZONE
BEGIN:VEVENT
UID:69e94fee76724
LOCATION:Garnisonsstraße 7, 19288 Ludwigslust
SUMMARY;ENCODING=QUOTED-PRINTABLE:Analoger Workshop "Canva - Social Media Content leicht erstellen"
DESCRIPTION;ENCODING=QUOTED-PRINTABLE:Verlässlich und schnell hochwertigen Content für die eigenen Social=0D=0AMedia Kanäle zu erstellen kann lange dauern und aufwändig sein.=0D=0A=0D=0ACanva - Social Media Content leicht erstellen=0D=0A=0D=0ADatum: 23.04.2026=0D=0A=0D=0AUhrzeit: 09:30 Uhr=0D=0A=0D=0ADauer: 2 Stunden=0D=0A=0D=0AVeranstaltungsort: Wirtschaftsförderungsgesellschaft=0D=0ASüdwestmecklenburg mbh, DeveLUP, Garnisonsstr. 7, 19288 Ludwigslust=0D=0A=0D=0AInhalt des Workshops:=0D=0A=0D=0AVerlässlich und schnell hochwertigen Content für die eigenen Social=0D=0AMedia Kanäle zu erstellen kann lange dauern und aufwändig sein.=0D=0A=0D=0AMit dem Online Grafik-Tool Canva ist das nicht mehr der Fall! Lernen=0D=0ASie in diesem Workshop die Grundlagen des Tools erkennen und erstellen=0D=0ASie Ihr erstes Design noch direkt in der Veranstaltung.=0D=0A=0D=0A- Einführung in das Tool "Canva"=0D=0A=0D=0A- Benutzeroberfläche und Markenunterlagen=0D=0A=0D=0A- Nützliche Boardtools von Canva=0D=0A=0D=0A- Praxis: Erstellung eines Instagram-Posts und einer Story=0D=0A=0D=0ABitte beachten Sie, dass diese Veranstaltung Vorwissen benötigt:=0D=0A=0D=0A- Sie sollten sicher mit dem Internet umgehen können=0D=0A=0D=0A- im Idealfall haben Sie unseren Workshop "Social Media für=0D=0AUnternehmen" bereits besucht=0D=0A=0D=0AFür die Teilnahme ist ein internetfähiger Laptop zwingend=0D=0Amitzubringen!=0D=0A=0D=0AAnmeldung:=0D=0Ahttps://www.invest-swm.de/weiterbildungen-workshops-veranstaltungen/workshop-canva-social-media-content-leicht-erstellen-1=0D=0A
URL;VALUE=URI:https://hamburgwhl.infomaxnet.de/standard_widget_de/e-analoger-workshop-canva-social-media-content-leicht-erstellen?eventDateId=29910837&widgetToken=22vcqFKw4GE.&
CLASS:PUBLIC
DTSTART:20260423T093000
DTSTAMP:20260423T004710
END:VEVENT
END:VCALENDAR