BEGIN:VCALENDAR
VERSION:2.0
PRODID:http://www.infomax-online.de/imxeventmanager/
METHOD:PUBLISH
BEGIN:VTIMEZONE
TZID:Europe/Berlin
TZURL:http://tzurl.org/zoneinfo-outlook/Europe/Berlin
X-LIC-LOCATION:Europe/Berlin
END:VTIMEZONE
BEGIN:VEVENT
UID:69ea22b507d0a
LOCATION:Museumstraße 23, 22765 Hamburg
SUMMARY;ENCODING=QUOTED-PRINTABLE:LitClub Altonaer Museum
DESCRIPTION;ENCODING=QUOTED-PRINTABLE:Gute Bücher handeln immer von Fragen, die uns alle umtreiben. Da geht=0D=0Aes um Tod, Gott, Liebe, Sehnsucht, Wut, Angst und von unserem=0D=0ABedürfnis nach Zugehörigkeit. Während wir für uns sind und lesen,=0D=0Aentwickelt sich meist ein stiller Dialog: Wir gleichen die Ansichten=0D=0Ader/-s Autorin/-s mit unserer Erfahrung, unserer Haltung, unseren=0D=0AWünschen ab. Sehen wir das so ähnlich oder ganz anders? Im LitClub=0D=0Akommen die Teilnehmer*innen genau darüber ins Gespräch.=0D=0A=0D=0AVoraussetzung für die Teilnahme ist nichts weiter als die Lust zu=0D=0Alesen, zu reden und zuzuhören.=0D=0ABrigitte Neumann (67), konzipiert und moderiert diesen LitClub. Von=0D=0ABeruf war sie unter anderem Literaturkritikerin im Hörfunk. Diese=0D=0ATätigkeit übt sie auch weiterhin in kleinem Rahmen aus.=0D=0A=0D=0ADer LitClub trifft sich an jedem dritten Sonntag im Monat von 16 bis=0D=0A17.30 Uhr im Altonaer Museum. Die Teilnehmer*innen treffen sich kurz=0D=0Avor Beginn an der Kasse.=0D=0ABitte ein eigenes Glas oder eine Tasse mitbringen.=0D=0A=0D=0A =0D=0A=0D=0ATermine & Titelliste=0D=0A=0D=0A15.2. Sebastian Haffner, Geschichte eines Deutschen. Die Erinnerungen=0D=0A1914-1933. Vollständige Ausgabe, erstmals 2002 erschienen.=0D=0AAutobiographie entlang des großen Zivilisationsbruches. Welche=0D=0AFreiheit bleibt dem Einzelnen?=0D=0A=0D=0A15.3. Margaret Atwood, Der Report der Magd. Roman. 1985. Über eine=0D=0Achristlich-fundamentalistische Diktatur in den USA.=0D=0A=0D=0A19.4. Monika Maron, Animal Triste. Roman. 1996. Über die Liebe als=0D=0Aletzte sinngebende Instanz=0D=0A=0D=0A17.5. T.C. Boyle, World’s End. Roman. 1987. Enthält alles, was=0D=0ALiteratur kann: Weisheit, Witz, Fantasie.=0D=0A=0D=0A21.6. Richard Powers, Das große Spiel. Roman. 2024. Der=0D=0AWissenschaftsromancier, auch genannt „brainy Powers“, über die=0D=0AKlimakrise und die Hoffnung, ‚Künstliche Intelligenz‘ könne die=0D=0AMenschheit retten.=0D=0A=0D=0A19.7. Carla Kaspari, Das Ende ist beruhigend. Roman. 2025. Während=0D=0Ader europäische Kontinent allmählich unbewohnbar wird, ermöglicht=0D=0Aeine wohltätige Organisation jungen Kreativen unter einer Glaskuppel=0D=0Aein Leben in Ruhe und Sicherheit – in der Hoffnung, sie würden=0D=0Aeinen Ausweg finden.=0D=0A=0D=0A16.8. Jim Dodge, Fup. Roman. 1983. Vorgelesen und übersetzt von Harry=0D=0ARowohlt. Ein wilder Spaß mitten durchs miese, wunderbare Leben.=0D=0A=0D=0A20.9. Tom Rob Smith, Kind 44. Krimi. 2008. Stalins Geheimdienste=0D=0Ainfiltrieren jede Ecke der Sowjetunion, so auch die Ukraine. Verfilmt=0D=0Avon Ridley Scott.=0D=0A=0D=0A18.10. Annika Büsing, Wir kommen zurecht. Roman. 2025. Wenn es mit=0D=0Ader eigenen Familie nichts wird, kann man sich dann eine neue wählen?=0D=0A=0D=0A15.11. Leon Engler, Botanik des Wahnsinns. Roman. 2025. Das Debüt des=0D=0ATheaterautors und Psychotherapeuten, in dem er das Diktum Nietzsches=0D=0Averhandelt, dass jede Generation verurteilt ist, die Fehler der alten=0D=0Azu wiederholen.=0D=0A=0D=0A20.12. Anja Kampmann, Die Wut ist ein heller Stern. Roman. 2025. Die=0D=0ANazis erobern auch die sündige Meile, den Hamburger Kiez. Freiräume=0D=0Averschwinden, weibliche Selbstbehauptung wird schwierig.=0D=0A
URL;VALUE=URI:https://hamburgwhl.infomaxnet.de/standard_widget_de/e-litclub-altonaer-museum?eventDateId=29909777&widgetToken=22vcqFKw4GE.&
CLASS:PUBLIC
DTSTART:20260419T160000
DTSTAMP:20260423T154629
END:VEVENT
END:VCALENDAR