BEGIN:VCALENDAR
VERSION:2.0
PRODID:http://www.infomax-online.de/imxeventmanager/
METHOD:PUBLISH
BEGIN:VTIMEZONE
TZID:Europe/Berlin
TZURL:http://tzurl.org/zoneinfo-outlook/Europe/Berlin
X-LIC-LOCATION:Europe/Berlin
END:VTIMEZONE
BEGIN:VEVENT
UID:69e9e5cf09bdb
LOCATION:Am Markt , 21335 Lüneburg
SUMMARY;ENCODING=QUOTED-PRINTABLE:Lüneburg - Mit allen Sinnen genießen
DESCRIPTION;ENCODING=QUOTED-PRINTABLE:Angeklopft und umgeschaut… Sehen, schmecken, riechen, hören und=0D=0Aertasten Sie Lüneburg.=0D=0A=0D=0AIndividuelle und inhabergeführte Geschäfte und Gastronomien zeigen=0D=0Ahierbei, was die Salz- Hansestadt so einzigartig macht. Lernen Sie=0D=0Awahre Schätze und echte Überraschungen abseits der großen=0D=0AEinkaufsstraßen kennen – inklusive Verköstigungen und kleine=0D=0AÜberraschungen.=0D=0A
URL;VALUE=URI:https://hamburgwhl.infomaxnet.de/standard_widget_de/e-lueneburg-mit-allen-sinnen-geniessen-2?eventDateId=29907530&widgetToken=22vcqFKw4GE.&
CLASS:PUBLIC
DTSTART:20260424T160000
DTSTAMP:20260423T112639
END:VEVENT
END:VCALENDAR