BEGIN:VCALENDAR
VERSION:2.0
PRODID:http://www.infomax-online.de/imxeventmanager/
METHOD:PUBLISH
BEGIN:VTIMEZONE
TZID:Europe/Berlin
TZURL:http://tzurl.org/zoneinfo-outlook/Europe/Berlin
X-LIC-LOCATION:Europe/Berlin
END:VTIMEZONE
BEGIN:VEVENT
UID:69e7bc9b520b0
LOCATION:Rockenhof 5, 22359 Hamburg
SUMMARY;ENCODING=QUOTED-PRINTABLE:Offenes Singen
DESCRIPTION;ENCODING=QUOTED-PRINTABLE:Lust zu singen? Ohne Vorkenntnisse? Nicht im Chor, sondern einfach so?=0D=0A=0D=0AKarl-Otto Richters singt mit Ihnen alte und neue Kirchenlieder,=0D=0AVolkslieder, Evergreens und nimmt auch gerne Ihre Liedwünsche auf.=0D=0A=0D=0ALEITUNG=0D=0A=0D=0AKarl Otto Richters=0D=0A=0D=0AVERANSTALTER=0D=0A=0D=0A	* Ev.-Luth. Kirchengemeinde Volksdorf=0D=0A[https://www.nordkirche.de/institution/?nkci=2159]=0D=0A=0D=0A
URL;VALUE=URI:https://hamburgwhl.infomaxnet.de/standard_widget_de/e-offenes-singen-67?eventDateId=29905684&widgetToken=22vcqFKw4GE.&
CLASS:PUBLIC
DTSTART:20260421T153000
DTSTAMP:20260421T200619
END:VEVENT
END:VCALENDAR