BEGIN:VCALENDAR
VERSION:2.0
PRODID:http://www.infomax-online.de/imxeventmanager/
METHOD:PUBLISH
BEGIN:VTIMEZONE
TZID:Europe/Berlin
TZURL:http://tzurl.org/zoneinfo-outlook/Europe/Berlin
X-LIC-LOCATION:Europe/Berlin
END:VTIMEZONE
BEGIN:VEVENT
UID:69eaf95bed9c4
LOCATION:Kokerstraße 1-3, 23569 Lübeck
SUMMARY;ENCODING=QUOTED-PRINTABLE:Trave-Taucher-Technik - ohne Taucher geht es nicht!
DESCRIPTION;ENCODING=QUOTED-PRINTABLE:18.04.2026 - 25.10.2026=0D=0A=0D=0ARainer Wiedemann zeigt in seiner von ihm kuratierten Ausstellung -=0D=0Aneben der Historie des Tauchens seit der Antike bis heute - viele=0D=0Aspannende und mit Texten erläuterten Bilder von Tauchern, die diese=0D=0Aschweren und gefährlichen Arbeiten unter Wasser ausführen.=0D=0A=0D=0ATauchen Sie mit uns ein in eine unbekannte Berufswelt! Sie werden=0D=0Adanach die Welt mit anderen Augen sehen...=0D=0A
URL;VALUE=URI:https://hamburgwhl.infomaxnet.de/standard_widget_de/e-trave-taucher-technik-ohne-taucher-geht-es-nicht-3-1?eventDateId=29903094&widgetToken=22vcqFKw4GE.&
CLASS:PUBLIC
DTSTART:20260501T140000
DTSTAMP:20260424T070219
END:VEVENT
END:VCALENDAR