BEGIN:VCALENDAR
VERSION:2.0
PRODID:http://www.infomax-online.de/imxeventmanager/
METHOD:PUBLISH
BEGIN:VTIMEZONE
TZID:Europe/Berlin
TZURL:http://tzurl.org/zoneinfo-outlook/Europe/Berlin
X-LIC-LOCATION:Europe/Berlin
END:VTIMEZONE
BEGIN:VEVENT
UID:69ed6c622565f
LOCATION:Hansestrasse , 21682 Stade
SUMMARY;ENCODING=QUOTED-PRINTABLE:Wilhelmine Kurztörn
DESCRIPTION;ENCODING=QUOTED-PRINTABLE:Lassen Sie sich auf einem alten Küstensegler aus dem 19. Jahrhundert=0D=0Aden Wind um die Nase wehen. Ziele der Fahrten sind die romantischen=0D=0Akleine Häfen der Unterelbe oder das Watt in der Elbmündung=0D=0A(abhängig von Wind- und Tideverhältnissen).=0D=0A=0D=0ALassen Sie sich auf einem alten Küstensegler aus dem 19. Jahrhundert=0D=0Aden Wind um die Nase wehen. Ziele der Fahrten sind die romantischen=0D=0Akleine Häfen der Unterelbe oder das Watt in der Elbmündung=0D=0A(abhängig von Wind- und Tideverhältnissen).=0D=0AEine erfahrene Crew ist an Bord mit dabei. Mithilfe der=0D=0AReiseteilnehmer z.B. beim Segelsetzen, in der Kombüse oder beim "Koje=0D=0Abauen" ist aber gerne erwünscht.=0D=0AEine Voranmeldung ist erforderlich, da die Teilnehmerzahl begrenzt=0D=0Aist.=0D=0ABordzeit: 30 Minuten vor Abfahrt=0D=0AHinweis: Bei zu geringer Teilnehmerzahl behält sich der Veranstalter=0D=0Aeine Absage der Fahrt vor. =0D=0A=0D=0A
URL;VALUE=URI:https://hamburgwhl.infomaxnet.de/standard_widget_de/e-wilhelmine-kurztoern?eventDateId=29894500&widgetToken=22vcqFKw4GE.&
CLASS:PUBLIC
DTSTART:20260426T093000
DTSTAMP:20260426T033738
END:VEVENT
END:VCALENDAR