BEGIN:VCALENDAR
VERSION:2.0
PRODID:http://www.infomax-online.de/imxeventmanager/
METHOD:PUBLISH
BEGIN:VTIMEZONE
TZID:Europe/Berlin
TZURL:http://tzurl.org/zoneinfo-outlook/Europe/Berlin
X-LIC-LOCATION:Europe/Berlin
END:VTIMEZONE
BEGIN:VEVENT
UID:69ec30c1be770
LOCATION:Petrikirchhof 1, 23552 Lübeck
SUMMARY;ENCODING=QUOTED-PRINTABLE:Die Buchmacher - Messe der unabhängigen Verlage
DESCRIPTION;ENCODING=QUOTED-PRINTABLE:SAMSTAG 11.00-18.00 UHR=0D=0A=0D=0A11:00 Eröffnung und Begrüßung=0D=0A=0D=0A11:15-14:00 Die Buchmacher*innen stellen ihre Verlage vor=0D=0A=0D=0A11:15-14:00 Bastelworkshop für Kinder ab 6 Jahren: Ausprobieren=0D=0Averschiedener Druck- und Buchbindetechniken=0D=0A=0D=0A14:00 Lesung Robert Brack: "Die nackte Haut (Nautilus)=0D=0A=0D=0A16:00 Lesung Janine Adomeit: "Die erste halbe Stunde im=0D=0AParadies (Arche) =0D=0A=0D=0ASONNTAG 11.00-16.00 UHR=0D=0A=0D=0A11:00 Eröffnung und Begrüßung=0D=0A=0D=0A11:15-14:00 Die Buchmacher*innen stellen ihre Verlage vor=0D=0A=0D=0A11:15-14:00 Bastelworkshop für Kinder ab 6 Jahren: Ausprobieren=0D=0Averschiedener Druck- und Buchbindetechniken=0D=0A=0D=0A14:00 Britta Jürgs liest aus Jolán Földes "Die Straße der=0D=0Afischenden Katze" (Aviva)=0D=0A=0D=0A15:00 Lesung Gabriel Bornstein: "Das elfte Gebot" (Kröner)=0D=0A=0D=0ADass in einer Kirche eine Messe gelesen wird, ist ganz normal. Aber=0D=0Adass eine Kirche zu einer Messe für Lesebegeisterte einlädt, ist=0D=0Aetwas ganz Besonderes. St. Petri zu Lübeck öffnet am 25. und 26.=0D=0AApril wieder ihre Tore für die „Buchmacher“, die Messe der=0D=0Aunabhängigen Verlage. Insgesamt 35 Verleger aus ganz Deutschland=0D=0Areisen an, um ihre aktuellen Romane, Sachbücher und Kinderbücher im=0D=0AKirchenraum zu präsentieren: handverlesene Werke, mit Liebe=0D=0Aausgesucht und gestaltet. Bei freiem Eintritt darf zwei Tage lang=0D=0Agelesen und gelauscht, gestöbert und gekauft werden. Im=0D=0AVorleseprogramm wird eine Auswahl von Neuerscheinungen von den=0D=0AAutorinnen und Autoren im Chorbereich der Kirche vorgestellt. Bereits=0D=0Azum neunten Mal kommen die „Buchmacher“ in Lübeck zusammen und=0D=0Afreuen sich auf ein interessiertes Publikum.=0D=0A=0D=0AEintritt frei=0D=0A=0D=0AFOLGENDE VERLAGE NEHMEN 2026 TEIL:=0D=0A=0D=0AAndreas Reiffer, AvivA, Bebra, Büchergilde Gutenberg, Culturbooks,=0D=0AEdition AB Fischer, Edition Frölich, Edition fünf, Edition=0D=0ANautilus, Edition Rugerup, Guggolz, Hain und=0D=0AKladow, Kindermann, Klaus=0D=0AWagenbach, Kröner, Merlin, Midas, Murmann/=0D=0AWachholtz, Osburg, PalmArtPress, Peter=0D=0AHammer, Reisedepeschen, Reprodukt, Römerweg, Rote=0D=0AKatze, Satyr, Schruf & Stipetic, Transit, Verbrecher, W1-Verlage=0D=0A=0D=0A =0D=0A=0D=0AVERANSTALTER=0D=0A=0D=0A	* Ev.-Luth. Kirchengemeindeverband Innenstadt Lübeck=0D=0A[https://www.nordkirche.de/institution/?nkci=14100]=0D=0A=0D=0A
URL;VALUE=URI:https://hamburgwhl.infomaxnet.de/standard_widget_de/e-die-buchmacher-messe-der-unabhaengigen-verlage?eventDateId=29892103&widgetToken=22vcqFKw4GE.&
CLASS:PUBLIC
DTSTART:20260425T110000
DTSTAMP:20260425T051057
END:VEVENT
END:VCALENDAR