BEGIN:VCALENDAR
VERSION:2.0
PRODID:http://www.infomax-online.de/imxeventmanager/
METHOD:PUBLISH
BEGIN:VTIMEZONE
TZID:Europe/Berlin
TZURL:http://tzurl.org/zoneinfo-outlook/Europe/Berlin
X-LIC-LOCATION:Europe/Berlin
END:VTIMEZONE
BEGIN:VEVENT
UID:69e828d569082
LOCATION:Stockmeyerstraße 43, 20457 Hamburg
SUMMARY;ENCODING=QUOTED-PRINTABLE:Wucht: Kammermusik im Oberhafen
DESCRIPTION;ENCODING=QUOTED-PRINTABLE:Eine Veranstaltung der Reihe Wucht: Kammermusik im Oberhafen -=0D=0AFeierabendkonzert zur blauen Stunde=0D=0A=0D=0ATa-ta-ta-taaa: Beethovens Fünfte für vier Hände. Orchestre en=0D=0AMiniature.=0D=0A=0D=0ALudwig van BeethovenSinfonie Nr. 5 c-moll op. 67Yun Xu Klavier=0D=0AFranck-Thomas Link Klavier=0D=0A=0D=0AEinlass 17h=0D=0AKonzert 18h=0D=0ALounge 19h=0D=0A=0D=0AVier Töne, die jeder kennt. Kein Motiv der Musikgeschichte ist=0D=0Aberühmter, keines wurde so oft gedeutet – vom Schicksalsruf bis zum=0D=0AMorsecode für „V“ wie Victory.=0D=0A=0D=0A1808 in Wien uraufgeführt, entsteht das Werk in schwierigen Jahren:=0D=0ABeethovens Gehör verschlechtert sich, die finanzielle Lage ist=0D=0Aangespannt. Kompositorisch setzt er auf äußerste Konzentration: Ein=0D=0Aeinziges rhythmisches Motiv durchdringt alle vier Sätze, der Weg=0D=0Aführt von c-moll nach C-Dur, ins Licht.=0D=0A
URL;VALUE=URI:https://hamburgwhl.infomaxnet.de/standard_widget_de/e-wucht-kammermusik-im-oberhafen?eventDateId=29890875&widgetToken=22vcqFKw4GE.&
CLASS:PUBLIC
DTSTART:20260422T180000
DTSTAMP:20260422T034805
END:VEVENT
END:VCALENDAR