BEGIN:VCALENDAR
VERSION:2.0
PRODID:http://www.infomax-online.de/imxeventmanager/
METHOD:PUBLISH
BEGIN:VTIMEZONE
TZID:Europe/Berlin
TZURL:http://tzurl.org/zoneinfo-outlook/Europe/Berlin
X-LIC-LOCATION:Europe/Berlin
END:VTIMEZONE
BEGIN:VEVENT
UID:69e68594e3237
LOCATION:Travemünder Landstraße 302, 23570 Travemünde
SUMMARY;ENCODING=QUOTED-PRINTABLE:Sandskulpturen Travemünde | ZEITREISE
DESCRIPTION;ENCODING=QUOTED-PRINTABLE:Faszinierende Skulpturen aus Sand auf einer 3.500 qm großen Fläche.=0D=0AWitterungsunabhängig in überdachten Hallen am charmanten=0D=0ATravemünder Fischereihafen. • sandskulpturen-travemuende.de=0D=0A=0D=0ASandig, kunstvoll, beeindruckend. Zum achten Mal öffnet die=0D=0ASandskulpturen Ausstellung am charmanten Travemünder Fischereihafen=0D=0Aihre Tore und zeigt auf einer Fläche von 3.500 qm rund 100=0D=0Adetailreiche Bildszenen aus Sand zum Thema ZEITREISE. Ein=0D=0Ainternationales Team fertigt die bis zu sieben Meter hohen=0D=0AMeisterwerke aus etwa 10.000 Kubikmetern Spezialsand. Die=0D=0ASandskulpturen Ausstellung findet witterungsunabhängig in drei=0D=0Aüberdachten Bootshallen statt. Der Gastronomiebereich und ein=0D=0AKindersandkasten runden dieses Erlebnis für die ganze Familie ab.=0D=0A=0D=0AGeöffnet: Samstag, 14. März bis Sonntag, 1. November 2026, täglich=0D=0Avon 10.00-18.00 Uhr, letzter Einlass 17.30 Uhr=0D=0A=0D=0ABarrierefreiheit: die Ausstellung ist mit dem Rollstuhl befahrbar=0D=0A=0D=0AHunde: dürfen an der Leine mit in die Ausstellung=0D=0A=0D=0ATickets: vor Ort=0D=0A=0D=0AEintritt: Erwachsene € 13,50 p. P./ermäßigt € 12,50 p. P./Kinder=0D=0Avon 4-14 Jahren € 8,50 p. P. und weitere=0D=0A
URL;VALUE=URI:https://hamburgwhl.infomaxnet.de/standard_widget_de/e-sandskulpturen-travemuende-legenden-mythen-und-sagen?eventDateId=29888975&widgetToken=22vcqFKw4GE.&
CLASS:PUBLIC
DTSTART:20260420T100000
DTSTAMP:20260420T215916
END:VEVENT
END:VCALENDAR