BEGIN:VCALENDAR
VERSION:2.0
PRODID:http://www.infomax-online.de/imxeventmanager/
METHOD:PUBLISH
BEGIN:VTIMEZONE
TZID:Europe/Berlin
TZURL:http://tzurl.org/zoneinfo-outlook/Europe/Berlin
X-LIC-LOCATION:Europe/Berlin
END:VTIMEZONE
BEGIN:VEVENT
UID:69ea8e22de5b9
LOCATION:Südstrand 11, 25761 Büsum
SUMMARY;ENCODING=QUOTED-PRINTABLE:Wattführung "mit Muße"
DESCRIPTION;ENCODING=QUOTED-PRINTABLE:Wattwanderung mit Nationalpark- Wattführer=0D=0A=0D=0AInteressantes und Schönes über das Watt und seine Bewohner,=0D=0AWissenswertes zum Küstenschutz und Sicherheit im Watt erleben und=0D=0Aerfahren.=0D=0ATREFFPUNKT: Hauptaufgang Nr.4 zwischen Hotel Lighthouse und Schwimmbad=0D=0A"Meerzeit"=0D=0ADAUER: ca. 2 Stunden=0D=0AOnline-Reservierung [https://watterleben.de] erforderlich unter=0D=0Awww.watterleben.de [http://watterleben.de]!=0D=0APreise: Kinder bis 3-16 J.: 5 €,  Erwachsene: 14 €, Familien:=0D=0A30 €, Gruppen auf Anfrage=0D=0AINFO: Johann P. Franzen 04834 9844766 oder 0174 6152421 oder=0D=0AReise-Service-Franzen@t-online.de. Gruppen auf Anfrage!=0D=0AWETTER: Das Beständige ist bei uns das Unbeständige. Stellen Sie=0D=0Asich auf eine intensive Sonneneinstrahlung (Gesicht, Kopf und=0D=0ASchultern schützen), einen kühlen Wind und Regen (Jacke) ein.=0D=0AWattwanderungen sind für Kinder gut geeignet! Bitte denken Sie an=0D=0AWechselsachen und Proviant (Getränke). Schuhwerk: Bei entsprechenden=0D=0ATemperaturen (ab 14 Grad und wenig Wind) kann man gut barfuß wandern.=0D=0ASonst in festen Leinenturnschuhen oder festsitzenden Gummistiefeln.=0D=0A
URL;VALUE=URI:https://hamburgwhl.infomaxnet.de/standard_widget_de/e-wattfuehrung-mit-musse?eventDateId=29887191&widgetToken=22vcqFKw4GE.&
CLASS:PUBLIC
DTSTART:20260423T100000
DTSTAMP:20260423T232450
END:VEVENT
END:VCALENDAR