BEGIN:VCALENDAR
VERSION:2.0
PRODID:http://www.infomax-online.de/imxeventmanager/
METHOD:PUBLISH
BEGIN:VTIMEZONE
TZID:Europe/Berlin
TZURL:http://tzurl.org/zoneinfo-outlook/Europe/Berlin
X-LIC-LOCATION:Europe/Berlin
END:VTIMEZONE
BEGIN:VEVENT
UID:69eacaa600f75
LOCATION:Koberg , 23552 Lübeck
SUMMARY;ENCODING=QUOTED-PRINTABLE:Faultier Flori und der Mond / KOBALT Figurentheater Lübeck
DESCRIPTION;ENCODING=QUOTED-PRINTABLE:Faultier Flori kann nicht einschlafen. Und nichts hilft; kein Gesang,=0D=0Akein Schaukeln. Und der Mond ist so spannend! Der Kuscheltierdrache=0D=0Ahat da eine Idee ...=0D=0A=0D=0ADas kleine Faultier Flori liegt in seiner Dschungelhängematte und=0D=0Akann nicht einschlafen. Nichts hilft: kein Schaukeln, keine Musik,=0D=0Akein Lied. Nicht mal das Kuscheln mit dem Lieblingsstofftier. Doch=0D=0Adieser Kuscheldrache hat da eine Idee. Sie erforschen den=0D=0ASternenhimmel!=0D=0A=0D=0AIst der Mond eine Schaukel?=0D=0A=0D=0ALieder zur Ukulele, viele Stimmungsbilder und ein heller Bühnenraum=0D=0Aermöglichen den aller kleinsten Theatergängern zwischen 2 und 4=0D=0AJahren ein erstes altersgemäßes Theatererlebnis.=0D=0A=0D=0A
URL;VALUE=URI:https://hamburgwhl.infomaxnet.de/standard_widget_de/e-faultier-flori-und-der-mond?eventDateId=29886817&widgetToken=22vcqFKw4GE.&
CLASS:PUBLIC
DTSTART:20260424T150000
DTSTAMP:20260424T034302
END:VEVENT
END:VCALENDAR