BEGIN:VCALENDAR
VERSION:2.0
PRODID:http://www.infomax-online.de/imxeventmanager/
METHOD:PUBLISH
BEGIN:VTIMEZONE
TZID:Europe/Berlin
TZURL:http://tzurl.org/zoneinfo-outlook/Europe/Berlin
X-LIC-LOCATION:Europe/Berlin
END:VTIMEZONE
BEGIN:VEVENT
UID:69e6182f787fa
LOCATION:Wismarsche Str. 87, 19053 Schwerin
SUMMARY;ENCODING=QUOTED-PRINTABLE:BLAUER VOGEL Kunstnacht
DESCRIPTION;ENCODING=QUOTED-PRINTABLE:Malen, Tanzen, Feiern, Snacks und Getränke - das "fetzt"!=0D=0A=0D=0AUnter professioneller Anleitung können Sie an jedem letzten=0D=0ASamstagabend im Monat in Feieratmosphäre gemeinsam das Abenteuer=0D=0AKunst erleben, unterstützt durch Partystimmung und Musik. Der beste=0D=0AAugenblick ist immer jetzt! Voller Lebensfreude und Neugier auf das,=0D=0Awas kommen mag, den Entstehungsprozess gegenseitig teilen und=0D=0Agenießen. La Bohemè – jeden letzten Samstag im Monat erleben Sie=0D=0Abei uns eine BLAUER VOGEL KUNSTNACHT zu verschiedenen Themen. Haben=0D=0ASie Lust auf ein Experiment? Trauen Sie sich! Schaffen wir Kunst=0D=0Agemeinsam und genießen sie, sowie kleine Snacks und Getränke. Sie=0D=0Awerden staunen, was Sie können!=0D=0A
URL;VALUE=URI:https://hamburgwhl.infomaxnet.de/standard_widget_de/e-blauer-vogel-kunstnacht?eventDateId=29886405&widgetToken=22vcqFKw4GE.&
CLASS:PUBLIC
DTSTART:20260425T190000
DTSTAMP:20260420T141231
END:VEVENT
END:VCALENDAR