BEGIN:VCALENDAR
VERSION:2.0
PRODID:http://www.infomax-online.de/imxeventmanager/
METHOD:PUBLISH
BEGIN:VTIMEZONE
TZID:Europe/Berlin
TZURL:http://tzurl.org/zoneinfo-outlook/Europe/Berlin
X-LIC-LOCATION:Europe/Berlin
END:VTIMEZONE
BEGIN:VEVENT
UID:69ea0bec57c35
LOCATION:Graf-Bremer-Straße 33, 21781 Cadenberge
SUMMARY;ENCODING=QUOTED-PRINTABLE:Filmabend - THE QUIET GIRL
DESCRIPTION;ENCODING=QUOTED-PRINTABLE:Der Taubenhof zeigt den Film »THE QUIET GIRL«.=0D=0A=0D=0ADie Handlung:=0D=0AAm Ende des Frühjahrs 1981 wird die 9-jährige Cáit zu entfernten=0D=0AVerwandten aufs Land gebracht. Das schweigsame Mädchen soll hier den=0D=0ASommer verbringen, ohne ihrem Elternhaus zur Last zu fallen. Nur mit=0D=0Aden Kleidern, die sie auf dem Leib trägt, zieht sie in das gepflegte=0D=0ALandhaus ein, zu dem eine Allee mit üppig-grünen Bäumen führt.=0D=0AWann und ob sie wieder nach Hause zurückkehren wird, weiß sie nicht.=0D=0ASeán und Eibhlín Cinnsealach sind hart arbeitende Farmer, die es zu=0D=0Abescheidendem Wohlstand gebracht haben. Eibhlín kümmert sich=0D=0Abehutsam und liebevoll um Cáit, gibt ihr Geborgenheit und Nähe. Zu=0D=0ASeán ist das Verhältnis distanziert, bis auch er sich von dem=0D=0AMädchen bei der Arbeit mit den Tieren helfen lässt und sich dem=0D=0Aruhigen Kind langsam öffnet. In der Obhut ihrer Pflegefamilie blüht=0D=0ACáit langsam auf und entdeckt ein ganz neues Leben. Doch auch in=0D=0Adiesem Haus, wo es so etwas wie Liebe für sie geben könnte, herrscht=0D=0Aeine Stille, die sich vom leisen, aber dauernden Schmerz seiner=0D=0ABewohner ernährt. Inmitten dieser kargen, schönen irischen=0D=0ALandschaft liegt ein Geheimnis verborgen, auf dessen Spuren sich Cáit=0D=0Amit neu gewonnenem Mut und Vertrauen begibt.=0D=0A=0D=0AEinlass ab 18.30 Uhr.=0D=0A=0D=0AKartenreservierung unter taubenhof@ruehls.info=0D=0AEine Anmeldung ist nicht erforderlich.=0D=0A=0D=0AEintritt: 10,00 €=0D=0A
URL;VALUE=URI:https://hamburgwhl.infomaxnet.de/standard_widget_de/e-filmabend-the-quiet-girl?eventDateId=29885628&widgetToken=22vcqFKw4GE.&
CLASS:PUBLIC
DTSTART:20260424T193000
DTSTAMP:20260423T140916
END:VEVENT
END:VCALENDAR