BEGIN:VCALENDAR
VERSION:2.0
PRODID:http://www.infomax-online.de/imxeventmanager/
METHOD:PUBLISH
BEGIN:VTIMEZONE
TZID:Europe/Berlin
TZURL:http://tzurl.org/zoneinfo-outlook/Europe/Berlin
X-LIC-LOCATION:Europe/Berlin
END:VTIMEZONE
BEGIN:VEVENT
UID:69ea5ef9e16b1
LOCATION:Süderpiep 9, 25718 Friedrichskoog
SUMMARY;ENCODING=QUOTED-PRINTABLE:Abendwanderung am Deich: Naturerlebnis in der Dämmerung
DESCRIPTION;ENCODING=QUOTED-PRINTABLE:Genießen Sie die stille Schönheit der Dämmerung am Deich. Bei=0D=0Adieser Abendwanderung erleben Sie die Natur auf besondere Weise: mit=0D=0Aden Augen, Ohren und dem Herzen - ein Erlebnis für alle Sinne!=0D=0A=0D=0AErleben Sie das Wattenmeer vom Deich aus bei einsetzender=0D=0AAbenddämmerung! Während wir die Umgebung mit allen Sinnen=0D=0Aerforschen: Welche Geräusche trägt der Wind uns zu? Was für einen=0D=0AUrsprung haben verschiedene Gerüche, die einem hier häufig begegnen?=0D=0AUnd welche Eigenschaften typischer Strandfunde lassen sich entdecken?=0D=0ADiese Wanderung lädt dazu ein, Ihre Sinne zu schärfen und mehr über=0D=0Adie beeindruckende Natur und die Bewohner des UNESCO-Weltnaturerbes=0D=0AWattenmeer zu erfahren.=0D=0A
URL;VALUE=URI:https://hamburgwhl.infomaxnet.de/standard_widget_de/e-im-dunkeln-am-deich-abendwanderung-mit-allen-sinnen-3?eventDateId=29880295&widgetToken=22vcqFKw4GE.&
CLASS:PUBLIC
DTSTART:20260424T193000
DTSTAMP:20260423T200337
END:VEVENT
END:VCALENDAR