BEGIN:VCALENDAR
VERSION:2.0
PRODID:http://www.infomax-online.de/imxeventmanager/
METHOD:PUBLISH
BEGIN:VTIMEZONE
TZID:Europe/Berlin
TZURL:http://tzurl.org/zoneinfo-outlook/Europe/Berlin
X-LIC-LOCATION:Europe/Berlin
END:VTIMEZONE
BEGIN:VEVENT
UID:69e5d46192c8c
LOCATION:Neue Straße 58, 21073 Hamburg
SUMMARY;ENCODING=QUOTED-PRINTABLE:Karaoke-Party im Irish Pub Hamburg-Harburg
DESCRIPTION;ENCODING=QUOTED-PRINTABLE:Erlebe die Magie der irischen Lebensfreude auf unserer Karaoke-Bühne!=0D=0A- Lass dich von den zauberhaften Klängen der grünen Insel mitreißen=0D=0Aund tauche ein in ein unvergessliches Erlebnis. Singe mit Leidenschaft=0D=0Aund Hingabe, während du die Freiheit der Musik in der warmen,=0D=0Aeinladenden Atmosphäre des Old Dubliners spürst. Bei uns ist jeder=0D=0Awillkommen, egal ob Profisänger, Amateuer und Nichtskönner :-D Wir=0D=0Afeiern den Moment und nach jedem Auftritt wird frenetisch applaudiert.=0D=0ANicht umsonst ist das Motto des Old Dubliners: "There are no strangers=0D=0Ahere, only friends you haven't met before!" - Unsere Moderatoren=0D=0Asprechen Deutsch und Englisch.=0D=0A=0D=0AMit einem kühlen Pint in der Hand und einem Lied auf den Lippen=0D=0Afeiern wir gemeinsam bis in die frühen Morgenstunden. Die Bühne=0D=0Agehört dir – entdecke die schier endlose Auswahl an Liedern, die=0D=0Adarauf warten, von dir zum Leben erweckt zu werden! Sei Teil unserer=0D=0Amusikalischen Reise und lass uns gemeinsam mit jeder Note die Stimmung=0D=0Azum Überkochen bringen. Wir freuen uns auf dich! Also schnapp' dir=0D=0Adeine Freunde und Bekannten und wen du auch immer auf dem Weg zu uns=0D=0Afindest. Such dir DEINEN SONG aus den Songlisten raus, Zettel abgeben=0D=0Aund schon stehst du auf unserer Bühne und performst, wie du noch nie=0D=0Aperformt hast. In unserer Songliste ist bestimmt das eine oder andere=0D=0ALied für dich und deine Freunde dabei. Ob Rock, Pop, NDW, Schlager,=0D=0Adas beste von heute oder gestern - egal wonach dir gerade ist: Wir=0D=0Ahaben es bestimmt dabei.=0D=0A=0D=0ASonglisten und weitere Infos zum Karaoke-Team:=0D=0A=0D=0Ahttps://www.karaoke-hamburg.de=0D=0A
URL;VALUE=URI:https://hamburgwhl.infomaxnet.de/standard_widget_de/e-karaoke-party-im-irish-pub-hamburg-harburg-3?eventDateId=29879247&widgetToken=22vcqFKw4GE.&
CLASS:PUBLIC
DTSTART:20260423T190000
DTSTAMP:20260420T092313
END:VEVENT
END:VCALENDAR