BEGIN:VCALENDAR
VERSION:2.0
PRODID:http://www.infomax-online.de/imxeventmanager/
METHOD:PUBLISH
BEGIN:VTIMEZONE
TZID:Europe/Berlin
TZURL:http://tzurl.org/zoneinfo-outlook/Europe/Berlin
X-LIC-LOCATION:Europe/Berlin
END:VTIMEZONE
BEGIN:VEVENT
UID:69ea0fdaaff82
LOCATION:Hafenstraße 2, 25704 Meldorf
SUMMARY;ENCODING=QUOTED-PRINTABLE:Vogelparadies Meldorfer Speicherkoog: Natur zu Fuß erleben
DESCRIPTION;ENCODING=QUOTED-PRINTABLE:Entdecken Sie die faszinierende und vielfältige Vogelwelt des=0D=0AMeldorfer Speicherkoogs, direkt am Nationalpark Wattenmeer! Wir laden=0D=0ASie ein, auf eine interessante Entdeckungstour zu gehen und sowohl=0D=0Aheimische als auch weit gereiste Vögel kennenzulernen.=0D=0A=0D=0AKommen Sie mit auf eine spannende, zweistündige Führung und=0D=0Aentdecken Sie die versteckten Schönheiten des Meldorfer=0D=0ASpeicherkoogs! Wir zeigen Ihnen die besten Plätze zur=0D=0AVogelbeobachtung und erklären, warum dieser einzigartige Lebensraum=0D=0Aso wertvoll für zahlreiche Vogelarten ist. Wussten Sie, dass das=0D=0AWeltnaturerbe Wattenmeer vor Dithmarschen eine bedeutende Raststätte=0D=0Afür Millionen von Vögeln ist? Hier tanken sie Energie und verdoppeln=0D=0Aihr Gewicht für die langen Flugstrecken – ein faszinierendes=0D=0ANaturphänomen! Gemeinsam bestimmen wir verschiedene Vogelarten und=0D=0Alernen ihre Besonderheiten kennen.=0D=0A
URL;VALUE=URI:https://hamburgwhl.infomaxnet.de/standard_widget_de/e-fuehrung-die-vogelwelt-im-meldorfer-speicherkoog-2?eventDateId=29877652&widgetToken=22vcqFKw4GE.&
CLASS:PUBLIC
DTSTART:20260424T143000
DTSTAMP:20260423T142602
END:VEVENT
END:VCALENDAR