BEGIN:VCALENDAR
VERSION:2.0
PRODID:http://www.infomax-online.de/imxeventmanager/
METHOD:PUBLISH
BEGIN:VTIMEZONE
TZID:Europe/Berlin
TZURL:http://tzurl.org/zoneinfo-outlook/Europe/Berlin
X-LIC-LOCATION:Europe/Berlin
END:VTIMEZONE
BEGIN:VEVENT
UID:69eb79cbf2e91
LOCATION:Hinter dem Klosterhof 31, 25524 Itzehoe
SUMMARY;ENCODING=QUOTED-PRINTABLE:Informationstermin Freiwilligenforum Itzehoe e.V.
DESCRIPTION;ENCODING=QUOTED-PRINTABLE:Das Freiwilligenforum Itzehoe e.V. bemüht sich freiwillig Helfende=0D=0Aund Unterstützung Suchende zusammenzubringen.=0D=0A=0D=0AWir finden Möglichkeiten für Sie, sich zu engagieren oder=0D=0AUnterstützung zu finden bei einer konkreten Person oder einem Verein/=0D=0Aeiner gemeinnützigen Organisation.=0D=0AWir führen Sie in Ihre Tätigkeit ein und bleiben ansprechbar für=0D=0Abeide Seiten: für die, die Zeit schenken und die, die Zeit annehmen.=0D=0A
URL;VALUE=URI:https://hamburgwhl.infomaxnet.de/standard_widget_de/e-informationstermin-freiwilligenforum-itzehoe-ev-5?eventDateId=29877576&widgetToken=22vcqFKw4GE.&
CLASS:PUBLIC
DTSTART:20260427T160000
DTSTAMP:20260424T161019
END:VEVENT
END:VCALENDAR