BEGIN:VCALENDAR
VERSION:2.0
PRODID:http://www.infomax-online.de/imxeventmanager/
METHOD:PUBLISH
BEGIN:VTIMEZONE
TZID:Europe/Berlin
TZURL:http://tzurl.org/zoneinfo-outlook/Europe/Berlin
X-LIC-LOCATION:Europe/Berlin
END:VTIMEZONE
BEGIN:VEVENT
UID:69eb39d76e248
LOCATION:Bei der Petrikirche 2, 20095 Hamburg
SUMMARY;ENCODING=QUOTED-PRINTABLE:Stunde der Kirchenmusik
DESCRIPTION;ENCODING=QUOTED-PRINTABLE:VERANSTALTER=0D=0A=0D=0A	* Amt für Kirchenmusik Hamburg=0D=0A[https://www.nordkirche.de/institution/?nkci=7834]=0D=0A=0D=0A
URL;VALUE=URI:https://hamburgwhl.infomaxnet.de/standard_widget_de/e-stunde-der-kirchenmusik-10?eventDateId=29877273&widgetToken=22vcqFKw4GE.&
CLASS:PUBLIC
DTSTART:20260429T171500
DTSTAMP:20260424T113727
END:VEVENT
END:VCALENDAR