BEGIN:VCALENDAR
VERSION:2.0
PRODID:http://www.infomax-online.de/imxeventmanager/
METHOD:PUBLISH
BEGIN:VTIMEZONE
TZID:Europe/Berlin
TZURL:http://tzurl.org/zoneinfo-outlook/Europe/Berlin
X-LIC-LOCATION:Europe/Berlin
END:VTIMEZONE
BEGIN:VEVENT
UID:69e7a3dbc0846
LOCATION:St. Georgs Kirchhof 19, 20099 Hamburg
SUMMARY;ENCODING=QUOTED-PRINTABLE:Gottesdienst positiv leben & lieben
DESCRIPTION;ENCODING=QUOTED-PRINTABLE:LEITUNG=0D=0A=0D=0APastores Malte Stets, Björn Henkel mit dem Team positiv leben &=0D=0Alieben=0D=0A=0D=0AMITWIRKENDE=0D=0A=0D=0AMusik: Martin Schneekloth=0D=0A=0D=0AVERANSTALTER=0D=0A=0D=0A	* Ev.-luth. Kirchengemeinde St. Georg-Borgfelde=0D=0A[https://www.nordkirche.de/institution/?nkci=3129]=0D=0A=0D=0A
URL;VALUE=URI:https://hamburgwhl.infomaxnet.de/standard_widget_de/e-gottesdienst-positiv-leben-lieben-19?eventDateId=29877253&widgetToken=22vcqFKw4GE.&
CLASS:PUBLIC
DTSTART:20260426T180000
DTSTAMP:20260421T182043
END:VEVENT
END:VCALENDAR