BEGIN:VCALENDAR
VERSION:2.0
PRODID:http://www.infomax-online.de/imxeventmanager/
METHOD:PUBLISH
BEGIN:VTIMEZONE
TZID:Europe/Berlin
TZURL:http://tzurl.org/zoneinfo-outlook/Europe/Berlin
X-LIC-LOCATION:Europe/Berlin
END:VTIMEZONE
BEGIN:VEVENT
UID:69ed95130e7f7
LOCATION:Rathausplatz , 22880 Wedel
SUMMARY;ENCODING=QUOTED-PRINTABLE:Neu(gierig)? Geschichtstour: Industrie an der Elbe
DESCRIPTION;ENCODING=QUOTED-PRINTABLE:Geschichtstour für Neubürger und weitere Wissbegierige durch Schulau=0D=0AKategorie:Halbtagestour=0D=0AGeeignet für: Alltagsrad, Pedelec=0D=0ALänge: 15 km =0D=0ABesondere Zielgruppen:=0D=0A
URL;VALUE=URI:https://hamburgwhl.infomaxnet.de/standard_widget_de/e-neugierig-geschichtstour-industrie-an-der-elbe?eventDateId=29877195&widgetToken=22vcqFKw4GE.&
CLASS:PUBLIC
DTSTART:20260426T100000
DTSTAMP:20260426T063115
END:VEVENT
END:VCALENDAR