BEGIN:VCALENDAR
VERSION:2.0
PRODID:http://www.infomax-online.de/imxeventmanager/
METHOD:PUBLISH
BEGIN:VTIMEZONE
TZID:Europe/Berlin
TZURL:http://tzurl.org/zoneinfo-outlook/Europe/Berlin
X-LIC-LOCATION:Europe/Berlin
END:VTIMEZONE
BEGIN:VEVENT
UID:69ea10037925a
LOCATION:Holstenwall 28, 20355 Hamburg
SUMMARY;ENCODING=QUOTED-PRINTABLE:La Cumpaneia - "Papiertheater" [Teehaus Große Wallanlagen]
DESCRIPTION;ENCODING=QUOTED-PRINTABLE:Die abwechslungsreichen Themenabende werden auch=0D=0A2026 fortgeführt. Detaillierte Programmankündigungen folgen.=0D=0A
URL;VALUE=URI:https://hamburgwhl.infomaxnet.de/standard_widget_de/e-la-cumpaneia-roads-not-taken-teehaus-grosse-wallanlagen?eventDateId=29876817&widgetToken=22vcqFKw4GE.&
CLASS:PUBLIC
DTSTART:20260424T193000
DTSTAMP:20260423T142643
END:VEVENT
END:VCALENDAR