BEGIN:VCALENDAR
VERSION:2.0
PRODID:http://www.infomax-online.de/imxeventmanager/
METHOD:PUBLISH
BEGIN:VTIMEZONE
TZID:Europe/Berlin
TZURL:http://tzurl.org/zoneinfo-outlook/Europe/Berlin
X-LIC-LOCATION:Europe/Berlin
END:VTIMEZONE
BEGIN:VEVENT
UID:69e7e78887809
LOCATION:Heider Straße 1, 20251 Hamburg
SUMMARY;ENCODING=QUOTED-PRINTABLE:Predigtgottesdienst am Sonntag Jubilate
DESCRIPTION;ENCODING=QUOTED-PRINTABLE:LEITUNG=0D=0A=0D=0APrädikantin Caroline Schröder=0D=0A=0D=0AVERANSTALTER=0D=0A=0D=0A	* Ev.-luth. Kirchengemeinde St. Markus-Hoheluft=0D=0A[https://www.nordkirche.de/institution/?nkci=390]=0D=0A=0D=0A
URL;VALUE=URI:https://hamburgwhl.infomaxnet.de/standard_widget_de/e-predigtgottesdienst-am-sonntag-jubilate-1?eventDateId=29874811&widgetToken=22vcqFKw4GE.&
CLASS:PUBLIC
DTSTART:20260426T100000
DTSTAMP:20260421T230928
END:VEVENT
END:VCALENDAR