BEGIN:VCALENDAR
VERSION:2.0
PRODID:http://www.infomax-online.de/imxeventmanager/
METHOD:PUBLISH
BEGIN:VTIMEZONE
TZID:Europe/Berlin
TZURL:http://tzurl.org/zoneinfo-outlook/Europe/Berlin
X-LIC-LOCATION:Europe/Berlin
END:VTIMEZONE
BEGIN:VEVENT
UID:69e6b1b73aa2b
LOCATION:Ohnhorststraße 18, 22609 Hamburg
SUMMARY;ENCODING=QUOTED-PRINTABLE:Destillations-Workshops - Workshop: Rosmarin-Destillation
DESCRIPTION;ENCODING=QUOTED-PRINTABLE:2026 bietet der Botanische Garten der Universität Hamburg erstmals=0D=0Aeinen ganzen Zyklus zum Thema "Öle destillieren" an. =0D=0ADabei werden in den einzelnen Praxisworkshops die wichtigsten Aspeker=0D=0Ader Destillation erlernt und direkt praktisch umgesetzt, so dass alle=0D=0ATeilnehmenden ihr eigenes Öl oder Hydrolat erstellen und auch mit=0D=0Anach Hause nehmen können.=0D=0A
URL;VALUE=URI:https://hamburgwhl.infomaxnet.de/standard_widget_de/e-destillations-workshops-workshop-rosmarin-destillation?eventDateId=29874258&widgetToken=22vcqFKw4GE.&
CLASS:PUBLIC
DTSTART:20260425T093000
DTSTAMP:20260421T010735
END:VEVENT
END:VCALENDAR