BEGIN:VCALENDAR
VERSION:2.0
PRODID:http://www.infomax-online.de/imxeventmanager/
METHOD:PUBLISH
BEGIN:VTIMEZONE
TZID:Europe/Berlin
TZURL:http://tzurl.org/zoneinfo-outlook/Europe/Berlin
X-LIC-LOCATION:Europe/Berlin
END:VTIMEZONE
BEGIN:VEVENT
UID:69ed42c1c1bea
LOCATION:Hammeweg 10-12, 27726 Worpswede
SUMMARY;ENCODING=QUOTED-PRINTABLE:Torfkahnrundfahrt
DESCRIPTION;ENCODING=QUOTED-PRINTABLE:In Zusammenarbeit mit der Worpsweder Touristik bieten wir von Mai bis=0D=0AOktober regelmäßige Torfkahnfahrten an. Diese Rundfahrten finden=0D=0Ajeden Dienstag, Mittwoch, Donnerstag, Samstag, Sonntag und an=0D=0AFeiertagen um 14.00 Uhr=0D=0Asowie jeden Samstag um 16.00 Uhr und jeden Sonntag um 12.00 Uhr statt.=0D=0A=0D=0AHINWEIS: Wir empfehlen für alle Fahrten eine Reservierung. Für=0D=0ASpontangäste stehen nur Restplätze zur Verfügung. =0D=0A=0D=0AErwachsene € 15,- und Kinder € 9,-=0D=0A
URL;VALUE=URI:https://hamburgwhl.infomaxnet.de/standard_widget_de/e-torfkahnrundfahrt?eventDateId=29871295&widgetToken=22vcqFKw4GE.&
CLASS:PUBLIC
DTSTART:20260502T160000
DTSTAMP:20260426T004001
END:VEVENT
END:VCALENDAR