BEGIN:VCALENDAR
VERSION:2.0
PRODID:http://www.infomax-online.de/imxeventmanager/
METHOD:PUBLISH
BEGIN:VTIMEZONE
TZID:Europe/Berlin
TZURL:http://tzurl.org/zoneinfo-outlook/Europe/Berlin
X-LIC-LOCATION:Europe/Berlin
END:VTIMEZONE
BEGIN:VEVENT
UID:69e605414c5b4
LOCATION:Steindamm 45, 20099 Hamburg
SUMMARY;ENCODING=QUOTED-PRINTABLE:Fun Facts mit Saša Stanišic + Lesung von Texten aus zwanzig Jahren=0D=0ATexte
DESCRIPTION;ENCODING=QUOTED-PRINTABLE:An diesem Abend präsentiert Saša Stanišic live vor Publikum die=0D=0Aaktuelle Ausgabe von FUN FACTS. FUN FACTS ist ein neues, tägliches,=0D=0Afünfzehnminütiges Nachrichtenformat mit Humor.=0D=0A=0D=0AFacts, but funny. FUN FACTS seziert den Tag, sucht hinter der=0D=0AAufregung nach den größeren Problemen, zeigt Lösungswege auf und=0D=0Aist dabei noch witzig.=0D=0A=0D=0ANach der etwa halbstündigen Aufzeichnung gibt es eine etwa=0D=0Aeinstündige Lesung von Texten aus zwanzig Jahren Texte.=0D=0A=0D=0ASaša Stanišic wurde 1978 in Višegrad (Jugoslawien) geboren und lebt=0D=0Aseit 1992 in Deutschland. Seine Werke wurden in mehr als vierzig=0D=0ASprachen übersetzt und viele Male ausgezeichnet.=0D=0A=0D=0ASaša Stanišic lebt und arbeitet in Hamburg.=0D=0A=0D=0AHinweis: Der Abend wird aufgezeichnet!=0D=0A
URL;VALUE=URI:https://hamburgwhl.infomaxnet.de/standard_widget_de/e-fun-facts-mit-sasa-stanisic?eventDateId=29871053&widgetToken=22vcqFKw4GE.&
CLASS:PUBLIC
DTSTART:20260420T190000
DTSTAMP:20260420T125145
END:VEVENT
END:VCALENDAR