BEGIN:VCALENDAR
VERSION:2.0
PRODID:http://www.infomax-online.de/imxeventmanager/
METHOD:PUBLISH
BEGIN:VTIMEZONE
TZID:Europe/Berlin
TZURL:http://tzurl.org/zoneinfo-outlook/Europe/Berlin
X-LIC-LOCATION:Europe/Berlin
END:VTIMEZONE
BEGIN:VEVENT
UID:69ead189584d1
LOCATION:Saseler Parkweg 3, 22393 Hamburg
SUMMARY;ENCODING=QUOTED-PRINTABLE:Bilderbuchkino: Der Recyclosaurus
DESCRIPTION;ENCODING=QUOTED-PRINTABLE:Nach einem Bilderbuch von Anka Schwelgin=0D=0A=0D=0AMatti ist der größte Dino-Fan aller Zeiten. Eines Tages, als Matti=0D=0Aein Dino-Bild malt, geschieht das Unvorstellbare: Der Buntstift-Dino=0D=0Awird lebendig! Aber der Dino wächst unheimlich schnell. Und er hat=0D=0Aimmer Hunger. Am liebsten mag der Urzeitriese Plastik. Bald reichen=0D=0Ader Plastikmüll und der Platz im Haus nicht mehr für ihn aus. Er=0D=0Azieht auf einen Tierschutzhof und die ganze Stadt hilft bei der=0D=0AFütterung mit. Aber warum frisst der Dino so unglaublich gerne=0D=0APlastik?=0D=0A=0D=0AVorlesespaß für Kinder ab 4 Jahren.=0D=0ABilder werden gezeigt, während der Text "live" vorgelesen wird. =0D=0ADauer ca. 30 Minuten.=0D=0AKostenlos. Spende erbeten.=0D=0ABitte mit Anmeldung unter kinderleseclub@saselhaus.de=0D=0A
URL;VALUE=URI:https://hamburgwhl.infomaxnet.de/standard_widget_de/e-bilderbuchkino-der-recyclosaurus?eventDateId=29865478&widgetToken=22vcqFKw4GE.&
CLASS:PUBLIC
DTSTART:20260424T150000
DTSTAMP:20260424T041225
END:VEVENT
END:VCALENDAR