BEGIN:VCALENDAR
VERSION:2.0
PRODID:http://www.infomax-online.de/imxeventmanager/
METHOD:PUBLISH
BEGIN:VTIMEZONE
TZID:Europe/Berlin
TZURL:http://tzurl.org/zoneinfo-outlook/Europe/Berlin
X-LIC-LOCATION:Europe/Berlin
END:VTIMEZONE
BEGIN:VEVENT
UID:69e9bc78e3714
LOCATION:Zum Festplatz 4, 23966 Wismar
SUMMARY;ENCODING=QUOTED-PRINTABLE:Hanseschau Wismar
DESCRIPTION;ENCODING=QUOTED-PRINTABLE:Verbraucher Messe=0D=0A=0D=0AWeltoffen, lebendig, bodenständig: Die Hanseschau Wismar=0D=0AEine tiefe Freundschaft verbindet sie: Die Hansestadt Wismar und ihre=0D=0Agleichnamige Hanseschau. Bereits seit 34 Jahren ist sie hier jährlich=0D=0Aim Veranstaltungskalender fest verwurzelt – Wetterkapriolen, der=0D=0APandemie und Widrigkeiten zum Trotz. Als Verkaufsshow und -event hat=0D=0Asie wie keine andere das Bundesland Mecklenburg-Vorpommern geprägt=0D=0Aund begleitet. Nun geht sie langsam aber sicher auf die vierzig zu –=0D=0Aund erfindet sich in ihren besten Jahren neu!=0D=0A=0D=0ASchon in den letzten paar Jahren hatte die Hanseschau ihr Gesicht=0D=0Amerklich geändert: Die Erweiterung in den Außenbereich mit den=0D=0AThemen Lifestyle & Good-Living und bot Platz für neue Themen. Auch=0D=0Adas Hanseschau-Quarreé, eine zentrale Open-Air-Fläche, lädt mit=0D=0ABühne und Cateringangeboten zum Schlemmen, Probieren und Verweilen=0D=0Aein, während das sechsstündige mitreißende Bühnenprogramm bestaunt=0D=0Awerden kann. Von hier aus sind die Großhallen fächerartig=0D=0Aangeordnet. Es liegt in Ihrer Hand: Sie entscheiden, welche der Hallen=0D=0ASie entdecken möchten. Erlebnis und einkaufen, entdecken und=0D=0Aerfahren: Die Hanseschau macht es möglich!=0D=0A=0D=0AProdukte, Dienstleistungen und Infostände, Ausprobier- und=0D=0AVerkostungsmöglichkeiten: Die fünf Hallen warten mit einem Erlebnis=0D=0Afür alle Sinne auf Sie! Mit Themen wie gesellschaftliches Engagement,=0D=0Agesund und fit in jedem Alter, modernes Bauen und Wohnen, Lifestyle=0D=0Aund Haushalt, Tourismus, Schmecken und Genießen oder Ehrenamt bietet=0D=0Adie Hanseschau ein breites Themen- und Infospektrum für Ihre gesamte=0D=0AFamilie.=0D=0A
URL;VALUE=URI:https://hamburgwhl.infomaxnet.de/standard_widget_de/e-hanseschau-wismar-2?eventDateId=29857424&widgetToken=22vcqFKw4GE.&
CLASS:PUBLIC
DTSTART:20260425T100000
DTSTAMP:20260423T083016
END:VEVENT
END:VCALENDAR