BEGIN:VCALENDAR
VERSION:2.0
PRODID:http://www.infomax-online.de/imxeventmanager/
METHOD:PUBLISH
BEGIN:VTIMEZONE
TZID:Europe/Berlin
TZURL:http://tzurl.org/zoneinfo-outlook/Europe/Berlin
X-LIC-LOCATION:Europe/Berlin
END:VTIMEZONE
BEGIN:VEVENT
UID:69ed1b265d78e
LOCATION:Am Markt 14, 19055 Schwerin
SUMMARY;ENCODING=QUOTED-PRINTABLE:Rundgang mit dem Nachtwächter von Schwerin
DESCRIPTION;ENCODING=QUOTED-PRINTABLE:Rundgang mit dem Nachtwächter durch die historische Altstadt. Mit=0D=0AHellebarde bewaffnet, mit Laterne beleuchtet, gespickt mit witzigen=0D=0AAnekdoten - so stellt sich das nächtliche Schwerin dar.=0D=0A=0D=0ARundgang mit dem Nachtwächter durch die historische Altstadt. Mit=0D=0AHellebarde bewaffnet, mit Laterne beleuchtet, gespickt mit witzigen=0D=0AAnekdoten - so spaziert er mit Ihnen durch das nächtliche Schwerin.=0D=0A=0D=0ATreffpunkt: Touristinformation am Markt=0D=0ADauer: ca. 1,5 Stunden=0D=0A=0D=0ATickets sind online, in der Tourist-Information oder direkt beim=0D=0ANachtwächter erhältlich.=0D=0A=0D=0A =0D=0A
URL;VALUE=URI:https://hamburgwhl.infomaxnet.de/standard_widget_de/e-rundgang-mit-dem-nachtwaechter-von-schwerin?eventDateId=29857249&widgetToken=22vcqFKw4GE.&
CLASS:PUBLIC
DTSTART:20260425T203000
DTSTAMP:20260425T215102
END:VEVENT
END:VCALENDAR