BEGIN:VCALENDAR
VERSION:2.0
PRODID:http://www.infomax-online.de/imxeventmanager/
METHOD:PUBLISH
BEGIN:VTIMEZONE
TZID:Europe/Berlin
TZURL:http://tzurl.org/zoneinfo-outlook/Europe/Berlin
X-LIC-LOCATION:Europe/Berlin
END:VTIMEZONE
BEGIN:VEVENT
UID:69e5ed8db48f0
LOCATION:Hauptstr. 9, 19273 Amt Neuhaus
SUMMARY;ENCODING=QUOTED-PRINTABLE:Plattdüütsch Runn
DESCRIPTION;ENCODING=QUOTED-PRINTABLE:Café Rautenkranz, Darchau lädt zum Plattdüütsch Runn:=0D=0AKaffee, Kuchen und Klönschnack für alle Plattdeutsch Freunde=0D=0A=0D=0ACafé Rautenkranz, Darchau lädt zum Plattdüütsch Runn:=0D=0AKaffee, Kuchen und Klönschnack für alle Plattdeutsch Freunde=0D=0A
URL;VALUE=URI:https://hamburgwhl.infomaxnet.de/standard_widget_de/e-plattdueuetsch-runn?eventDateId=29855483&widgetToken=22vcqFKw4GE.&
CLASS:PUBLIC
DTSTART:20260421T140000
DTSTAMP:20260420T111037
END:VEVENT
END:VCALENDAR