BEGIN:VCALENDAR
VERSION:2.0
PRODID:http://www.infomax-online.de/imxeventmanager/
METHOD:PUBLISH
BEGIN:VTIMEZONE
TZID:Europe/Berlin
TZURL:http://tzurl.org/zoneinfo-outlook/Europe/Berlin
X-LIC-LOCATION:Europe/Berlin
END:VTIMEZONE
BEGIN:VEVENT
UID:69ea202c6cb01
LOCATION:Dammtordamm 1, 20354 Hamburg
SUMMARY;ENCODING=QUOTED-PRINTABLE:Int. OCEAN FILM TOUR Vol. 12
DESCRIPTION;ENCODING=QUOTED-PRINTABLE:Faszinierende Geschichten aus der Welt der Ozeane: Das zweistündige=0D=0AProgramm der INTERNATIONAL OCEAN FILM TOUR Vol. 12 zeigt Menschen, die=0D=0Adas Meer lieben und alles dafür tun, diesen einzigartigen Lebensraum=0D=0Azu bewahren. Seit über zehn Jahren begeistert die Filmtour ihr=0D=0APublikum mit einem unverwechselbaren Mix aus Filmen über alle Arten=0D=0Avon Wassersport und Meeresabenteuern – und liefert mit jedem=0D=0AProgramm spannende Geschichten, Inspiration und unvergessliche=0D=0ADenkanstöße. Alle Infos zur Tour und zu den aktuellen Filmen gibt es=0D=0Aauf www.oceanfilmtour.com=0D=0A
URL;VALUE=URI:https://hamburgwhl.infomaxnet.de/standard_widget_de/e-int-ocean-film-tour-vol-12?eventDateId=29853609&widgetToken=22vcqFKw4GE.&
CLASS:PUBLIC
DTSTART:20260421T200000
DTSTAMP:20260423T153540
END:VEVENT
END:VCALENDAR