BEGIN:VCALENDAR
VERSION:2.0
PRODID:http://www.infomax-online.de/imxeventmanager/
METHOD:PUBLISH
BEGIN:VTIMEZONE
TZID:Europe/Berlin
TZURL:http://tzurl.org/zoneinfo-outlook/Europe/Berlin
X-LIC-LOCATION:Europe/Berlin
END:VTIMEZONE
BEGIN:VEVENT
UID:69ed43ffc7e2b
LOCATION:Martinistraße 44a, 20251 Hamburg
SUMMARY;ENCODING=QUOTED-PRINTABLE:Ausstellung: Anna Stemer - Belichtet
DESCRIPTION;ENCODING=QUOTED-PRINTABLE:Die Ausstellung ?Belichtet? richtet den Blick auf urbane Stillleben=0D=0Aund nächtliche Szenen der Stadt Hamburg. Die Künstlerin,=0D=0AKunsttherapeutin und angehende Kinder- und=0D=0AJugendlichenpsychotherapeutin Anna Stemer widmet sich in der=0D=0AAusstellung einer fortlaufenden Werkreihe von Acrylmalerei auf=0D=0ALeinwand. Ihre atmosphärisch dichten Bilder fangen dabei die=0D=0Abesondere Stimmung ihrer Heimatstadt bei Dämmerung und Nacht ein.=0D=0AAusgangspunkt der malerischen Arbeiten sind analoge Fotografien. Bars,=0D=0AStraßen- und Bahnlichter werden Teil einer stillen Erzählung des=0D=0Aurbanen Alltags.=0D=0A=0D=0AIm Zentrum der Bildsprache stehen sowohl das pulsierende Leben, als=0D=0Aauch die Ruhe, die sich zwischen den künstlichen Lichtquellen=0D=0Aentfaltet. Großflächige schwarze Elemente fungieren dabei nicht=0D=0Aallein als freie Flächen, sondern laden dazu ein, bewusst=0D=0Awahrzunehmen und innezuhalten. So entstehen vielfältige poetische=0D=0AMomentaufnahmen der Stadt Hamburg. Die Ausstellung lädt zu einem=0D=0ASpaziergang und zum Entdecken dieser Momente ein.=0D=0A=0D=0ABesichtigungszeiten für Bilder in Flur und Foyer: i.d.R. Mo - Fr,=0D=0A11:00 - 18:00. Bilder im Saal können besichtigt werden, wenn dieser=0D=0Afrei ist. Dazu könnt ihr gern einen Termin vereinbaren.=0D=0A
URL;VALUE=URI:https://hamburgwhl.infomaxnet.de/standard_widget_de/e-ausstellung-anna-stemer-belichtet?eventDateId=29850045&widgetToken=22vcqFKw4GE.&
CLASS:PUBLIC
DTSTART:20260430T110000
DTSTAMP:20260426T004519
END:VEVENT
END:VCALENDAR