BEGIN:VCALENDAR
VERSION:2.0
PRODID:http://www.infomax-online.de/imxeventmanager/
METHOD:PUBLISH
BEGIN:VTIMEZONE
TZID:Europe/Berlin
TZURL:http://tzurl.org/zoneinfo-outlook/Europe/Berlin
X-LIC-LOCATION:Europe/Berlin
END:VTIMEZONE
BEGIN:VEVENT
UID:69e5f08525783
LOCATION:Ferdinandstraße 12, 20095 Hamburg
SUMMARY;ENCODING=QUOTED-PRINTABLE:Caribbean Night
DESCRIPTION;ENCODING=QUOTED-PRINTABLE:Line Up: Der Salsa Afterwork in Hamburg City=0D=0A=0D=0ALust auf heiße Rhythmen und tropische Vibes mitten in der Woche? Dann=0D=0Aist die Caribbean Night genau das Richtige für dich! Jeden Dienstag=0D=0Aab 20 Uhr verwandelt sich unser zentral gelegener Club in Hamburg-City=0D=0Ain eine Tanzfläche voller Lebensfreude.=0D=0A=0D=0AFreu dich auf die besten Beats aus Salsa, Bachata und mehr, aufgelegt=0D=0Avon DJ Miguel und wechselnden Special Guests. Ob Anfänger oder Profi,=0D=0Ahier kommen alle auf ihre Kosten.=0D=0A=0D=0ABring deine Freunde mit und tanze dir den Alltagsstress einfach weg -=0D=0ACaribbean Night ist der perfekte Start in deine Woche!=0D=0A
URL;VALUE=URI:https://hamburgwhl.infomaxnet.de/standard_widget_de/e-caribbean-night-35?eventDateId=29849894&widgetToken=22vcqFKw4GE.&
CLASS:PUBLIC
DTSTART:20260421T200000
DTSTAMP:20260420T112317
END:VEVENT
END:VCALENDAR