BEGIN:VCALENDAR
VERSION:2.0
PRODID:http://www.infomax-online.de/imxeventmanager/
METHOD:PUBLISH
BEGIN:VTIMEZONE
TZID:Europe/Berlin
TZURL:http://tzurl.org/zoneinfo-outlook/Europe/Berlin
X-LIC-LOCATION:Europe/Berlin
END:VTIMEZONE
BEGIN:VEVENT
UID:69e8b54580d0f
LOCATION:Platz der Deutschen Einheit 1, 20457 Hamburg
SUMMARY;ENCODING=QUOTED-PRINTABLE:8. Philharmonisches Konzert
DESCRIPTION;ENCODING=QUOTED-PRINTABLE:Das berühmte Violinkonzert e-Moll op. 64 von Felix Mendelssohn=0D=0ABartholdy – wie würde es in der Zukunft klingen? Auf die Spur=0D=0Adieses ZeitSpiels begibt sich Richard Dubugnon mit seiner=0D=0AÜberschreibung des zweiten Satzes, dirigiert wie interpretiert von=0D=0AJulian Rachlin. Eine spannende Neukomposition für das 8.=0D=0APhilharmonische Konzert, durch die uns der gebürtige Hamburger,=0D=0Ageboren am 3. Februar 1809, als Teil unseres Hier und Jetzt begegnet.=0D=0A
URL;VALUE=URI:https://hamburgwhl.infomaxnet.de/standard_widget_de/e-8-philharmonisches-konzert-12?eventDateId=29847194&widgetToken=22vcqFKw4GE.&
CLASS:PUBLIC
DTSTART:20260426T110000
DTSTAMP:20260422T134717
END:VEVENT
END:VCALENDAR