BEGIN:VCALENDAR
VERSION:2.0
PRODID:http://www.infomax-online.de/imxeventmanager/
METHOD:PUBLISH
BEGIN:VTIMEZONE
TZID:Europe/Berlin
TZURL:http://tzurl.org/zoneinfo-outlook/Europe/Berlin
X-LIC-LOCATION:Europe/Berlin
END:VTIMEZONE
BEGIN:VEVENT
UID:69eabd1047956
LOCATION:Beer-Yaacov-Weg 1, 23843 Bad Oldesloe
SUMMARY;ENCODING=QUOTED-PRINTABLE:Oliver Lück: Lück aus 49 – Das große Reise-Lotto
DESCRIPTION;ENCODING=QUOTED-PRINTABLE:Ein Mann, ein Bulli, eine halbe Million Kilometer. Seit 30 Jahren ist=0D=0ALück mit seinem VW-Bus unterwegs, hat 49 Orte entdeckt und unzählige=0D=0AGeschichten gesammelt. An diesem Abend entscheidet das Publikum, wohin=0D=0Adie Vortrags- und Lesereise geht – mit einer selbst gebauten=0D=0ALotto-Maschine. In einer Mischung aus Erlebnissen, Bildern, Musik und=0D=0AVideos gibt er spannende Einblicke und Tipps für Reisende. Einsteigen=0D=0Aund abfahren!=0D=0A
URL;VALUE=URI:https://hamburgwhl.infomaxnet.de/standard_widget_de/e-oliver-lueck-lueck-aus-49-das-grosse-reise-lotto-1?eventDateId=29846966&widgetToken=22vcqFKw4GE.&
CLASS:PUBLIC
DTSTART:20260426T170000
DTSTAMP:20260424T024504
END:VEVENT
END:VCALENDAR