BEGIN:VCALENDAR
VERSION:2.0
PRODID:http://www.infomax-online.de/imxeventmanager/
METHOD:PUBLISH
BEGIN:VTIMEZONE
TZID:Europe/Berlin
TZURL:http://tzurl.org/zoneinfo-outlook/Europe/Berlin
X-LIC-LOCATION:Europe/Berlin
END:VTIMEZONE
BEGIN:VEVENT
UID:69eabb48dbe43
LOCATION:Beer-Yaacov-Weg 1, 23843 Bad Oldesloe
SUMMARY;ENCODING=QUOTED-PRINTABLE:Mathias Tretter: Souverän
DESCRIPTION;ENCODING=QUOTED-PRINTABLE:Die Welt im Jahr 2025: Fast an jeder Ecke ist Ausnahmezustand. Aber=0D=0Awer ist Souverän? Der Demokratie scheint die Herrschaft allmählich=0D=0Aabhanden zu kommen, weshalb sie aber noch lange nicht die=0D=0ASelbstbeherrschung verlieren sollte, meint Tretter. Sein=0D=0AKabarettprogramm beschäftigt sich mit der Macht sozialer Netzwerke=0D=0Aund dem Siegeszug des Populismus in Politik und Gesellschaft.=0D=0AIntelligent, verspielt, lustig und höchst unterhaltsam=0D=0A
URL;VALUE=URI:https://hamburgwhl.infomaxnet.de/standard_widget_de/e-mathias-tretter-souveraen-3?eventDateId=29846965&widgetToken=22vcqFKw4GE.&
CLASS:PUBLIC
DTSTART:20260425T200000
DTSTAMP:20260424T023728
END:VEVENT
END:VCALENDAR