BEGIN:VCALENDAR
VERSION:2.0
PRODID:http://www.infomax-online.de/imxeventmanager/
METHOD:PUBLISH
BEGIN:VTIMEZONE
TZID:Europe/Berlin
TZURL:http://tzurl.org/zoneinfo-outlook/Europe/Berlin
X-LIC-LOCATION:Europe/Berlin
END:VTIMEZONE
BEGIN:VEVENT
UID:69eabd53d5843
LOCATION:Beer-Yaacov-Weg 1, 23843 Bad Oldesloe
SUMMARY;ENCODING=QUOTED-PRINTABLE:Dallahan: Dark Horsemen of Tradition
DESCRIPTION;ENCODING=QUOTED-PRINTABLE:Dallahan gehören zu den aufregendsten Vertretern der keltischen=0D=0AMusikszene. Mit vier Alben und weltweiten Konzerten haben sie sich=0D=0Aeinen festen Platz erarbeitet. Nominiert für den „Live Band of the=0D=0AYear“-Preis in Schottland, begeistern sie mit einem musikalischen=0D=0AFeuerwerk aus Banjo, Fiddle, Akkordeon und Gitarre. Ihr Sound=0D=0Averbindet keltische Tradition mit Balkanmusik, amerikanischen Roots=0D=0Aund modernen Elementen.=0D=0A
URL;VALUE=URI:https://hamburgwhl.infomaxnet.de/standard_widget_de/e-dallahan-dark-horsemen-of-tradition-1?eventDateId=29846964&widgetToken=22vcqFKw4GE.&
CLASS:PUBLIC
DTSTART:20260424T200000
DTSTAMP:20260424T024611
END:VEVENT
END:VCALENDAR