BEGIN:VCALENDAR
VERSION:2.0
PRODID:http://www.infomax-online.de/imxeventmanager/
METHOD:PUBLISH
BEGIN:VTIMEZONE
TZID:Europe/Berlin
TZURL:http://tzurl.org/zoneinfo-outlook/Europe/Berlin
X-LIC-LOCATION:Europe/Berlin
END:VTIMEZONE
BEGIN:VEVENT
UID:69ea5f136e7de
LOCATION:Beer-Yaacov-Weg 1, 23843 Bad Oldesloe
SUMMARY;ENCODING=QUOTED-PRINTABLE:Mark Christoph Klee: Herbert
DESCRIPTION;ENCODING=QUOTED-PRINTABLE:Mark Christoph Klee untersucht die Biografie seines schwulen=0D=0AUrgroßonkels Herbert, der als „175er“ während der NS-Zeit in=0D=0AHaft war. Durch historische Fakten, queere Musik und Archivmaterial=0D=0Azieht Klee Parallelen zwischen dem Leben seines Urgroßonkels und dem=0D=0Aheutigen Leben als homosexueller Mann. Die Tanz-Performance=0D=0Athematisiert Diskriminierung, Wut, Trauer und queere Lebensfreude und=0D=0Azeigt auf, wie fragil Rechte für queere Menschen sind und wie sich=0D=0ARechtsextremismus damals und heute ähneln.=0D=0A
URL;VALUE=URI:https://hamburgwhl.infomaxnet.de/standard_widget_de/e-mark-christoph-klee-herbert-1?eventDateId=29846962&widgetToken=22vcqFKw4GE.&
CLASS:PUBLIC
DTSTART:20260423T180000
DTSTAMP:20260423T200403
END:VEVENT
END:VCALENDAR