BEGIN:VCALENDAR
VERSION:2.0
PRODID:http://www.infomax-online.de/imxeventmanager/
METHOD:PUBLISH
BEGIN:VTIMEZONE
TZID:Europe/Berlin
TZURL:http://tzurl.org/zoneinfo-outlook/Europe/Berlin
X-LIC-LOCATION:Europe/Berlin
END:VTIMEZONE
BEGIN:VEVENT
UID:69eabba274cb4
LOCATION:Beer-Yaacov-Weg 1, 23843 Bad Oldesloe
SUMMARY;ENCODING=QUOTED-PRINTABLE:Sprachmord – ein Bestandteil des Rashismus
DESCRIPTION;ENCODING=QUOTED-PRINTABLE:Die Ausstellung „Sprachmord – ein Bestandteil des Rashismus“ des=0D=0AUkrainischen Instituts für Nationales Gedenken dokumentiert, wie die=0D=0Aukrainische Sprache seit Jahrhunderten unterdrückt wurde. Anhand=0D=0Ahistorischer Quellen und Biografien zeigt sie, wie Verbote, Zensur und=0D=0ARussifizierung gezielt eingesetzt wurden, um kulturelle Identität=0D=0Aauszulöschen. Die Tafeln schlagen einen Bogen bis in die Gegenwart=0D=0Ades Krieges und machen deutlich: Der Angriff auf die Sprache ist Teil=0D=0Aeiner bewussten politischen Strategie. Die Ausstellung lädt ein,=0D=0ASprache als Ausdruck von Freiheit und Erinnerung neu=0D=0Awahrzunehmen. Die Ausstellung wird präsentiert von Anna Kuvshynova.=0D=0A
URL;VALUE=URI:https://hamburgwhl.infomaxnet.de/standard_widget_de/e-sprachmord-ein-bestandteil-des-rashismus?eventDateId=29846953&widgetToken=22vcqFKw4GE.&
CLASS:PUBLIC
DTSTART:20260425T090000
DTSTAMP:20260424T023858
END:VEVENT
END:VCALENDAR