BEGIN:VCALENDAR
VERSION:2.0
PRODID:http://www.infomax-online.de/imxeventmanager/
METHOD:PUBLISH
BEGIN:VTIMEZONE
TZID:Europe/Berlin
TZURL:http://tzurl.org/zoneinfo-outlook/Europe/Berlin
X-LIC-LOCATION:Europe/Berlin
END:VTIMEZONE
BEGIN:VEVENT
UID:69e9bcd0e5834
LOCATION:Zum Festplatz , 23966 Wismar
SUMMARY;ENCODING=QUOTED-PRINTABLE:Hanseschau Wismar
DESCRIPTION;ENCODING=QUOTED-PRINTABLE:Verbraucher Messe=0D=0A=0D=0AEine tiefe Freundschaft verbindet sie: Die HANSESTADT WISMAR und=0D=0Aihre gleichnamige HANSESCHAU. Bereits seit 34 Jahren ist sie hier=0D=0Ajährlich im Veranstaltungskalender fest verwurzelt –=0D=0AWetterkapriolen, der Pandemie und Widrigkeiten zum Trotz.=0D=0AAls VERKAUFSSHOW UND -EVENT hat sie wie keine andere das Bundesland=0D=0AMecklenburg-Vorpommern geprägt und begleitet. Nun geht sie langsam=0D=0Aaber sicher auf die vierzig zu – und erfindet sich in ihren besten=0D=0AJahren neu!=0D=0A=0D=0ASchon in den letzten paar Jahren hatte die Hanseschau ihr Gesicht=0D=0Amerklich geändert: Die Erweiterung in den Außenbereich mit den=0D=0AThemen LIFESTYLE & GOOD-LIVING und bot Platz für neue Themen. Auch=0D=0Adas HANSESCHAU-QUARREÉ, EINE ZENTRALE OPEN-AIR-FLÄCHE, LÄDT MIT=0D=0ABÜHNE UND CATERINGANGEBOTEN zum Schlemmen, Probieren und Verweilen=0D=0Aein, während das SECHSSTÜNDIGE MITREISSENDE=0D=0ABÜHNENPROGRAMM bestaunt werden kann. Von hier aus sind die=0D=0AGroßhallen fächerartig angeordnet. Es liegt in Ihrer Hand: Sie=0D=0Aentscheiden, welche der Hallen Sie entdecken möchten. Erlebnis und=0D=0Aeinkaufen, entdecken und erfahren: Die Hanseschau macht es möglich!=0D=0A=0D=0APRODUKTE, DIENSTLEISTUNGEN UND INFOSTÄNDE, AUSPROBIER- UND=0D=0AVERKOSTUNGSMÖGLICHKEITEN: Die fünf Hallen warten mit einem Erlebnis=0D=0Afür alle Sinne auf Sie! Mit Themen wie gesellschaftliches=0D=0AEngagement, gesund und fit in jedem Alter, modernes Bauen und=0D=0AWohnen, Lifestyle und Haushalt, Tourismus, Schmecken und Genießen=0D=0Aoder Ehrenamt bietet die Hanseschau ein breites Themen- und=0D=0AInfospektrum für Ihre gesamte Familie.=0D=0A=0D=0A =0D=0A
URL;VALUE=URI:https://hamburgwhl.infomaxnet.de/standard_widget_de/e-hanseschau-wismar-1-1?eventDateId=29842512&widgetToken=22vcqFKw4GE.&
CLASS:PUBLIC
DTSTART:20260423T100000
DTSTAMP:20260423T083144
END:VEVENT
END:VCALENDAR