BEGIN:VCALENDAR
VERSION:2.0
PRODID:http://www.infomax-online.de/imxeventmanager/
METHOD:PUBLISH
BEGIN:VTIMEZONE
TZID:Europe/Berlin
TZURL:http://tzurl.org/zoneinfo-outlook/Europe/Berlin
X-LIC-LOCATION:Europe/Berlin
END:VTIMEZONE
BEGIN:VEVENT
UID:69e6858fe34fd
LOCATION:Rathausplatz 5, 21745 Hemmoor
SUMMARY;ENCODING=QUOTED-PRINTABLE:Wandergruppe
DESCRIPTION;ENCODING=QUOTED-PRINTABLE:Wandergruppe Hemmoor=0D=0ADie Wandergruppe in Hemmoor lädt zum gemeinsamen Wandern ein.=0D=0ADen Bedürfnissen der einzelnen Teilnehmer angepasst, insbesondere zur=0D=0AStreckenlänge und Geschwindigkeit, gibt es viel zu entdecken auf den=0D=0Awechselnden Routen. Diese offene Gruppe entstand aus dem=0D=0AKoGGe-Projekt, die sich regelmäßig völlig ohne=0D=0AVereinszugehörigkeit trifft. Neue Teilnehmer*innen sind herzlich=0D=0Awillkommen.=0D=0AAnsprechpartner: Christa Jacobi, Tel.: 04771-642208 oder Sonja=0D=0ABendixen, Tel.: 04771-642982=0D=0A=0D=0A
URL;VALUE=URI:https://hamburgwhl.infomaxnet.de/standard_widget_de/e-wandergruppe-1?eventDateId=29837305&widgetToken=22vcqFKw4GE.&
CLASS:PUBLIC
DTSTART:20260422T140000
DTSTAMP:20260420T215911
END:VEVENT
END:VCALENDAR