BEGIN:VCALENDAR
VERSION:2.0
PRODID:http://www.infomax-online.de/imxeventmanager/
METHOD:PUBLISH
BEGIN:VTIMEZONE
TZID:Europe/Berlin
TZURL:http://tzurl.org/zoneinfo-outlook/Europe/Berlin
X-LIC-LOCATION:Europe/Berlin
END:VTIMEZONE
BEGIN:VEVENT
UID:69e6b208c5dc1
LOCATION:Rathausplatz 5, 21745 Hemmoor
SUMMARY;ENCODING=QUOTED-PRINTABLE:Wochenmarkt Hemmoor
DESCRIPTION;ENCODING=QUOTED-PRINTABLE:Jeden Freitag findet von 08:00 Uhr bis 12:00 Uhr auf dem Rathausplatz=0D=0Ain Hemmoor der Wochenmarkt statt.=0D=0AProduzenten aus der Region bieten ihre frische Produkte, wie Biokäse,=0D=0AWurst, frische Kartoffeln, leckeren Honig, Fischspezialitäten,=0D=0Abesondere Brotsorten und griechische Dips und Oliven u.v.m. an. =0D=0ABitte beachten Sie die Tagespresse!=0D=0AVeranstalter: Stadt Hemmoor=0D=0ATelefonnummer: 04771/602-0=0D=0A=0D=0A
URL;VALUE=URI:https://hamburgwhl.infomaxnet.de/standard_widget_de/e-wochenmarkt-hemmoor-1?eventDateId=29836887&widgetToken=22vcqFKw4GE.&
CLASS:PUBLIC
DTSTART:20260424T080000
DTSTAMP:20260421T010856
END:VEVENT
END:VCALENDAR