BEGIN:VCALENDAR
VERSION:2.0
PRODID:http://www.infomax-online.de/imxeventmanager/
METHOD:PUBLISH
BEGIN:VTIMEZONE
TZID:Europe/Berlin
TZURL:http://tzurl.org/zoneinfo-outlook/Europe/Berlin
X-LIC-LOCATION:Europe/Berlin
END:VTIMEZONE
BEGIN:VEVENT
UID:69ed43c1eb907
LOCATION:Hammeweg 10-12, 27726 Worpswede
SUMMARY;ENCODING=QUOTED-PRINTABLE:Kombifahrt - Torfkahn und Moorexpress
DESCRIPTION;ENCODING=QUOTED-PRINTABLE:Zwei Highlights der Region miteinander kombiniert=0D=0A=0D=0AIn Zusammenarbeit mit der Eisenbahnen und Verkehrsbetriebe Elbe-Weser=0D=0AGmbH wird eine Kombination von Torfkahnfahrt und Zugfahrt angeboten.=0D=0A=0D=0ATorfkahnfahrt auf der Hamme vom Anleger Neu Helgoland/ Hammehafen in=0D=0AWorpswede nach Osterholz-Scharmbeck. =0D=0A=0D=0ADie Rückfahrt mit dem Moorexpress ist um ca. 12:35 Uhr, ca. 16:41 Uhr=0D=0Aoder ca. 19:35 Uhr möglich und muss igenständig dazugebucht=0D=0Awerden. =0D=0A=0D=0AErwachsene € 17,50 und Kinder € 12,-=0D=0A=0D=0AHINWEIS: Bitte beachten Sie, dass die Buchung der Tickets für den=0D=0AMoorexpress separat erfolgen muss.=0D=0A
URL;VALUE=URI:https://hamburgwhl.infomaxnet.de/standard_widget_de/e-kombifahrt-torfkahn-und-moorexpress?eventDateId=29835645&widgetToken=22vcqFKw4GE.&
CLASS:PUBLIC
DTSTART:20260502T101500
DTSTAMP:20260426T004417
END:VEVENT
END:VCALENDAR