BEGIN:VCALENDAR
VERSION:2.0
PRODID:http://www.infomax-online.de/imxeventmanager/
METHOD:PUBLISH
BEGIN:VTIMEZONE
TZID:Europe/Berlin
TZURL:http://tzurl.org/zoneinfo-outlook/Europe/Berlin
X-LIC-LOCATION:Europe/Berlin
END:VTIMEZONE
BEGIN:VEVENT
UID:69e8cf1b27d13
LOCATION:Lennéstraße 1, 19053 Schwerin
SUMMARY;ENCODING=QUOTED-PRINTABLE:RENDEZVOUS IM SCHLOSS
DESCRIPTION;ENCODING=QUOTED-PRINTABLE:Eine Mecklenburgerin in Preußen – Kronprinzessin Cecilie=0D=0A(1886-1954)=0D=0A=0D=0AAls die 18-jährige Herzogin Cecilie zu Mecklenburg 1905 den=0D=0Apreußischen Thronfolger ehelichte, schien ihr eine glänzende Zukunft=0D=0Abeschieden. 40 Jahre später bestieg die einstige Kronprinzessin in=0D=0ABerlin einen überfüllten Flüchtlingszug, um sich vor der=0D=0Aheranrückenden Roten Armee in den Westen Deutschlands zu begeben.=0D=0AWelche Aufgaben nahm Cecilie als zweite Dame des Kaiserreiches wahr,=0D=0Awie war ihre Reaktion auf das Ende der Monarchie 1918? Wie verlief=0D=0Aihr  Lebensweg nach der Abdankung ihres Schwiegervaters Kaiser=0D=0AWilhelms II.? Darüber berichtet=0D=0AJörg Kirschstein von der Stiftung Preußische Schlösser und Gärten=0D=0ABerlin-Brandenburg, einer der besten Kenner des ereignisreichen Lebens=0D=0Ader mecklenburgischen Prinzessin.=0D=0AVeranstaltungsort: Historische Bibliothek=0D=0ATicket: 5 €=0D=0A
URL;VALUE=URI:https://hamburgwhl.infomaxnet.de/standard_widget_de/e-rendezvous-im-schloss-5?eventDateId=29832563&widgetToken=22vcqFKw4GE.&
CLASS:PUBLIC
DTSTART:20260423T180000
DTSTAMP:20260422T153731
END:VEVENT
END:VCALENDAR