BEGIN:VCALENDAR
VERSION:2.0
PRODID:http://www.infomax-online.de/imxeventmanager/
METHOD:PUBLISH
BEGIN:VTIMEZONE
TZID:Europe/Berlin
TZURL:http://tzurl.org/zoneinfo-outlook/Europe/Berlin
X-LIC-LOCATION:Europe/Berlin
END:VTIMEZONE
BEGIN:VEVENT
UID:69e5f0188864f
LOCATION:Rathausplatz 2, 23936 Grevesmühlen
SUMMARY;ENCODING=QUOTED-PRINTABLE:Bilderbuchkino in der Stadtbibliothek Grevesmühlen
DESCRIPTION;ENCODING=QUOTED-PRINTABLE:Dienstag, 21.04.2026 um 15:30 Uhr "Die neue Häschenschule" von Anke=0D=0AEngelke. Alle Bilderbuchkinos sind kostenlos, beginnen um 15.30 Uhr=0D=0Aund dauern ca. 15 Minuten. Sie sind für Kinder von 4 – 6 Jahren=0D=0Ageeignet. Änderungen vorbehalten. Beim Bilderbuchkino betrachten=0D=0AKinder gemeinsam die Bilder eines Bilderbuchs auf einer Leinwand,=0D=0Awährend ihnen die Handlung vorgelesen wird. Die Kinder können=0D=0Agemeinsam fantasievolle und spannende Geschichten erleben, Details in=0D=0Aden Bildern entdecken und Fragen beantworten. Sie lernen so den Umgang=0D=0Amit Büchern, das Zuhören und Verstehen von Geschichten und werden=0D=0Aspielerisch an Literatur und das Lesen herangeführt.=0D=0A=0D=0AHeutzutage sitzen in der Häschenschule nicht nur kleine Hasen im=0D=0AKlassenzimmer, sondern auch ein Fuchskind. Ein Fuchs - wirklich? Damit=0D=0Ahat Hasenmädchen Hoppich gar nicht gerechnet. Schnell wird ihr und=0D=0Aihren Mitschüler:innen klar: Ein Fuchsjunge, der Möhren als=0D=0APausensnack auspackt, ist keine Gefahr! Die droht von ganz anderer=0D=0ASeite und Fuchs und Hase können die schwierige Lage nur zusammen=0D=0Ameistern ... (Verlagstext)=0D=0A
URL;VALUE=URI:https://hamburgwhl.infomaxnet.de/standard_widget_de/e-bilderbuchkino-in-der-stadtbibliothek-grevesmuehlen-18?eventDateId=29832468&widgetToken=22vcqFKw4GE.&
CLASS:PUBLIC
DTSTART:20260421T153000
DTSTAMP:20260420T112128
END:VEVENT
END:VCALENDAR