BEGIN:VCALENDAR
VERSION:2.0
PRODID:http://www.infomax-online.de/imxeventmanager/
METHOD:PUBLISH
BEGIN:VTIMEZONE
TZID:Europe/Berlin
TZURL:http://tzurl.org/zoneinfo-outlook/Europe/Berlin
X-LIC-LOCATION:Europe/Berlin
END:VTIMEZONE
BEGIN:VEVENT
UID:69e8e77f80602
LOCATION:Schloßfreiheit , 19288 Ludwigslust
SUMMARY;ENCODING=QUOTED-PRINTABLE:„Rendezvous – Ludwigsluster Schlossgeschichten“
DESCRIPTION;ENCODING=QUOTED-PRINTABLE:"Adini" - Prinzessin Alexandrine von Preußen, ihre Schwerstern und=0D=0ASchwägerinnen - Ein Vortrag von und mit Rudolf Scharmann, Berlin=0D=0A=0D=0A24. APRIL 2026, 18.00 UHR, IM SCHLOSSCAFÉ=0D=0A=0D=0A"ADINI" - PRINZESSIN ALEXANDRINE VON PREUSSEN, IHRE SCHWERSTERN UND=0D=0ASCHWÄGERINNEN=0D=0A=0D=0AEin Vortrag von und mit Rudolf Scharmann, Berlin=0D=0A=0D=0AAlexandrine von Preußen heiratete 1822 den Erbgroßherzog Paul=0D=0AFriedrich von Mecklenburg-Schwerin und zog aus der Großstadt Berlin=0D=0Ains beschauliche Ludwigslust. Für sie und ihren Mann wurde bis zur=0D=0AHochzeit ein aufwendig ausgestattetes Appartement im Ludwigsluster=0D=0ASchloss eingerichtet, das seit der Wiedereröffnung wieder im fast=0D=0Aalten Glanz erstrahlt. Ihr Spitzname in der Familie war Adine oder=0D=0AAdini, damit unterschrieb sie ihre Briefe, die nicht zuletzt an ihre=0D=0Azwei Schwestern und ihre Lieblingsschwägerin Elisabeth, die=0D=0Apreußische Königin, gerichtet waren.=0D=0A=0D=0ADer Kunsthistoriker Rudolf Scharmann war der langjährige Leiter des=0D=0ASchlosses Charlottenburg und ist einer der besten Kenner von Königin=0D=0ALuise von Preußen und generell der Personengeschichte des=0D=0Apreußischen Hofes im 19. Jahrhundert. Sein letztes Buch ist den=0D=0A„Preußischen Prinzessinnen“ aus der Epoche der Romantik gewidmet,=0D=0Azu denen auch Alexandrine von Preußen gehört.=0D=0A=0D=0AEINTRITT: 5,00 EURO, TICKETS GIBT ES AN DER ABENDKASSE =0D=0A=0D=0AEINLASS: AB 17.30 UHR=0D=0A=0D=0AVeranstalter: Kooperationsveranstaltung zwischen der SSGK MV und dem=0D=0AFörderverein Schloss Ludwigslust e.V. =0D=0A
URL;VALUE=URI:https://hamburgwhl.infomaxnet.de/standard_widget_de/e-rendezvous-ludwigsluster-schlossgeschichten-8?eventDateId=29832418&widgetToken=22vcqFKw4GE.&
CLASS:PUBLIC
DTSTART:20260424T180000
DTSTAMP:20260422T172135
END:VEVENT
END:VCALENDAR