BEGIN:VCALENDAR
VERSION:2.0
PRODID:http://www.infomax-online.de/imxeventmanager/
METHOD:PUBLISH
BEGIN:VTIMEZONE
TZID:Europe/Berlin
TZURL:http://tzurl.org/zoneinfo-outlook/Europe/Berlin
X-LIC-LOCATION:Europe/Berlin
END:VTIMEZONE
BEGIN:VEVENT
UID:69eae5f159b47
LOCATION:Poppenbüttler Markt 2, 22399 Hamburg
SUMMARY;ENCODING=QUOTED-PRINTABLE:Lobpreisnacht
DESCRIPTION;ENCODING=QUOTED-PRINTABLE:LEITUNG=0D=0A=0D=0AAdeline Arendt=0D=0A=0D=0AVERANSTALTER=0D=0A=0D=0A	* Ev.-Luth. Kirchengemeinde Poppenbüttel=0D=0A[https://www.nordkirche.de/institution/?nkci=1570]=0D=0A=0D=0A
URL;VALUE=URI:https://hamburgwhl.infomaxnet.de/standard_widget_de/e-lobpreisnacht?eventDateId=29831203&widgetToken=22vcqFKw4GE.&
CLASS:PUBLIC
DTSTART:20260424T183000
DTSTAMP:20260424T053929
END:VEVENT
END:VCALENDAR