BEGIN:VCALENDAR
VERSION:2.0
PRODID:http://www.infomax-online.de/imxeventmanager/
METHOD:PUBLISH
BEGIN:VTIMEZONE
TZID:Europe/Berlin
TZURL:http://tzurl.org/zoneinfo-outlook/Europe/Berlin
X-LIC-LOCATION:Europe/Berlin
END:VTIMEZONE
BEGIN:VEVENT
UID:69ea0aa3a46d7
LOCATION:Am Gojenboom 46, 22111 Hamburg
SUMMARY;ENCODING=QUOTED-PRINTABLE:Rollstuhlberatung mit Rehability
DESCRIPTION;ENCODING=QUOTED-PRINTABLE:Mit unserer monatlichen Ruhlstuhl-Sprechstunde bringen wir kompetente=0D=0AReha-Technik direkt in deinen Kiez.=0D=0A=0D=0A =0D=0A=0D=0AWas wir für dich tun: =0D=0A=0D=0A	* Neue Rollstühle testen & ausprobieren=0D=0A	* Deine aktuelle Versorgung prüfen=0D=0A	* Beratung und Service für Aktiv- & E-Rollstühle=0D=0A	* Alle deine Fragen zur Reha-Technik klären=0D=0A	* Individuelle Fachberatung rund um den Rollstuhl=0D=0A=0D=0AWer wir sind: =0D=0AUnsere Leidenschaft gilt innovativen Lösungen, die Mobilität,=0D=0AUnabhängigkeit und Lebensfreude=0D=0Afördern. Ob Aktivrollstuhl, Elektrorollstuhl mit fortschrittlicher=0D=0ASteuerung, Handbike, elektrisches=0D=0AZuggerät, Sitzschale, Rehabuggy, Therapierad oder Stehtrainer - mit=0D=0AKreativität, Innovation und=0D=0AFachkompetenz finden wir die perfekte Lösung für dich.=0D=0A
URL;VALUE=URI:https://hamburgwhl.infomaxnet.de/standard_widget_de/e-rollstuhlberatung-mit-rehability?eventDateId=29828721&widgetToken=22vcqFKw4GE.&
CLASS:PUBLIC
DTSTART:20260515T100000
DTSTAMP:20260423T140347
END:VEVENT
END:VCALENDAR